BEGIN:VCALENDAR
VERSION:2.0
PRODID:-//Cambridge Society of Paris - ECPv5.12.2//NONSGML v1.0//EN
CALSCALE:GREGORIAN
METHOD:PUBLISH
X-WR-CALNAME:Cambridge Society of Paris
X-ORIGINAL-URL:https://cambridgesocietyofparis.com
X-WR-CALDESC:Events for Cambridge Society of Paris
REFRESH-INTERVAL;VALUE=DURATION:PT1H
X-Robots-Tag:noindex
X-PUBLISHED-TTL:PT1H
BEGIN:VTIMEZONE
TZID:Europe/Paris
BEGIN:DAYLIGHT
TZOFFSETFROM:+0100
TZOFFSETTO:+0200
TZNAME:CEST
DTSTART:20190331T010000
END:DAYLIGHT
BEGIN:STANDARD
TZOFFSETFROM:+0200
TZOFFSETTO:+0100
TZNAME:CET
DTSTART:20191027T010000
END:STANDARD
END:VTIMEZONE
BEGIN:VEVENT
DTSTART;TZID=Europe/Paris:20190516T190000
DTEND;TZID=Europe/Paris:20190516T210000
DTSTAMP:20260426T044415
CREATED:20190202T101826Z
LAST-MODIFIED:20190505T103714Z
UID:2740-1558033200-1558040400@cambridgesocietyofparis.com
SUMMARY:The Glory Days of Paris lecture: Artists of Montmartre: The Pilgrims of Babylon
DESCRIPTION:Thurs 16th May -Â  The first Glory Days of Paris lecture \nArtists of Montmartre; the Pilgrims of Babylon : Douglas Lyndon-Skeggs\nThere is no name more evocative of Bohemian life\, of high spirits\, decadence\, poverty and revolutionary art in Paris than Montmartre\, home to some of Franceâ€™s greatest artists. Renoir\, Toulouse-Lautrec and Picasso would paint canvases that would shake the very foundations of Western art. This lecture sets the scene for Glory Days\, leading from 1870 to 1910 when Picasso moved from Montmartre to Montparnasse\, the start of our mythical Ã©poque. \nThe lecture will be given by Douglas Lyndon-Skeggs who read fine arts at Magdalene College Cambridge\, has lectured on art and history since 1980\, is the author of several books\, creator of TV documentaries\, and was a former director of The New Academy of Art Studies. \nThe talk will also be supplemented by a private guided tour of Montmartre at 14:30 on Thursday 28th May\, commencing at Metro Anvers. \nNB: the Artists of Montmartre Lecture and the Guided walk are two independent events so you can opt to do either or both\, but the walk will be limited to 25 participants \nMetro: Court St. Emilion: Line 14: 5 minutes from ChÃ¢telet\nBus:Â Lines 24\, 109 and 111: Stop: Terroirs de France\nCar Parking:Â Bercy Cars\, 6 Rue des Pirogues de Bercy
URL:https://cambridgesocietyofparis.com/event/artists-of-montmartre-the-pilgrims-of-babylon/
LOCATION:Les Pavillons de Bercy – Musée des Arts Forains\, 53 Avenue des Terroirs de France\, Paris\, 75012\, France
CATEGORIES:Event
ATTACH;FMTTYPE=image/jpeg:https://cambridgesocietyofparis.com/wp-content/uploads/2019/04/Montmartre-by-Robert-Capa.jpeg
ORGANIZER;CN="Cambridge%20Society%20of%20Paris":MAILTO:admin@camsocparis.org
END:VEVENT
END:VCALENDAR