BEGIN:VCALENDAR
VERSION:2.0
PRODID:-//Cambridge Society of Paris - ECPv5.12.2//NONSGML v1.0//EN
CALSCALE:GREGORIAN
METHOD:PUBLISH
X-WR-CALNAME:Cambridge Society of Paris
X-ORIGINAL-URL:https://cambridgesocietyofparis.com
X-WR-CALDESC:Events for Cambridge Society of Paris
REFRESH-INTERVAL;VALUE=DURATION:PT1H
X-Robots-Tag:noindex
X-PUBLISHED-TTL:PT1H
BEGIN:VTIMEZONE
TZID:Europe/Paris
BEGIN:DAYLIGHT
TZOFFSETFROM:+0100
TZOFFSETTO:+0200
TZNAME:CEST
DTSTART:20190331T010000
END:DAYLIGHT
BEGIN:STANDARD
TZOFFSETFROM:+0200
TZOFFSETTO:+0100
TZNAME:CET
DTSTART:20191027T010000
END:STANDARD
END:VTIMEZONE
BEGIN:VEVENT
DTSTART;TZID=Europe/Paris:20190523T183000
DTEND;TZID=Europe/Paris:20190523T213000
DTSTAMP:20260426T044415
CREATED:20181014T094754Z
LAST-MODIFIED:20190428T161910Z
UID:2349-1558636200-1558647000@cambridgesocietyofparis.com
SUMMARY:The Annual Garden Party
DESCRIPTION:Thursday 23rd May at 6:30pm (sharp) The Oxford & Cambridge Garden PartyÂ at the British Ambassador’s Residence\n\n \nThe British Ambassador\, Lord Llewellyn\, has again agreed to welcome us at his Residence for our annual Garden Party. This year\, in addition to members of the Oxford Society and their guests\, members of the Cercle Franco-Britannique of Sciences Po Alumni will join us in the beautiful garden of the Residence. \nThe Chancellor of the University of Oxford\, Lord Patten\,Â andÂ Pierre Heilbronn\, Vice-President\, Policy and Partnerships at the European Bank for Reconstruction and Development\,Â will speak on the subject ofÂ European Identity\n  \n  \nVenue:  \nThe British Ambassador’s Residence\, 39\, rue du Faubourg Saint HonorÃ©\, 75008 Paris. \nCost:  \n\n\n\n\n\nâ‚¬ 48 each for members under 30 and first guest\nâ‚¬ 69 each for membersÂ and first guest\nâ‚¬ 78 each for additional guests and non-members\n\n\n\n\n\nBooking procedure:  \nThe Oxford Society is managing registrations this year. Please click here to download the reservation form\, which should be sent to Charles Tatham of the Oxford Society (payment details are included on the form) by Thursday 16thÂ May at the latest. \nFor security\, The Embassy requires a list of names in advance; please provide your own name in full\, together with those of your guests\, as per their photographic ID (passport or ID card) which must be presented at the gate to gain access. \nOnce your payment has been received\, you will be sent a “Pour MÃ©moire” invitation as a confirmation of your registration. \nThis is traditionally an enjoyable evening and a prestigious event in our season\, so make sure you book as soon as possible.
URL:https://cambridgesocietyofparis.com/event/annual-garden-party/
LOCATION:British Ambassador’s Residence in Paris\, 39 rue du Faubourg St-Honoré\, Paris\, 75008\, France
CATEGORIES:Event,Oxford
ATTACH;FMTTYPE=image/jpeg:https://cambridgesocietyofparis.com/wp-content/uploads/2018/02/cocktailparty1banner-e1549108326588.jpeg
ORGANIZER;CN="Cambridge%20Society%20of%20Paris":MAILTO:admin@camsocparis.org
END:VEVENT
END:VCALENDAR