BEGIN:VCALENDAR
VERSION:2.0
PRODID:-//Cambridge Society of Paris - ECPv5.12.2//NONSGML v1.0//EN
CALSCALE:GREGORIAN
METHOD:PUBLISH
X-WR-CALNAME:Cambridge Society of Paris
X-ORIGINAL-URL:https://cambridgesocietyofparis.com
X-WR-CALDESC:Events for Cambridge Society of Paris
REFRESH-INTERVAL;VALUE=DURATION:PT1H
X-Robots-Tag:noindex
X-PUBLISHED-TTL:PT1H
BEGIN:VTIMEZONE
TZID:Europe/Paris
BEGIN:DAYLIGHT
TZOFFSETFROM:+0100
TZOFFSETTO:+0200
TZNAME:CEST
DTSTART:20190331T010000
END:DAYLIGHT
BEGIN:STANDARD
TZOFFSETFROM:+0200
TZOFFSETTO:+0100
TZNAME:CET
DTSTART:20191027T010000
END:STANDARD
END:VTIMEZONE
BEGIN:VEVENT
DTSTART;TZID=Europe/Paris:20190702T090000
DTEND;TZID=Europe/Paris:20190702T103000
DTSTAMP:20260426T012723
CREATED:20190607T091204Z
LAST-MODIFIED:20190916T183921Z
UID:3648-1562058000-1562063400@cambridgesocietyofparis.com
SUMMARY:Glory Days of Paris - Guided Tour of the Destribats Collection
DESCRIPTION:We are delighted to announce thatÂ an event has been added related to the second Glory Days of Paris lecture\, on Dadaism and Surrealism. Christie’s has agreed to give us a private guided tourÂ of the outstanding Destribats collection\, at Christie’s Paris\, at 9am on Tuesday 2nd July. \nThe Books Department of Christie’s\, in partnership with experts Jean-Baptiste de Proyart and Claude Oterelo\, are arranging the sale of the Avant-Garde Library collected by Paul Destribats (1926-2017). \nThis exceptional jewel of books and manuscripts has been kept jealously for sixty years – only a limited number of researchers and a few friends have had access. The Avant-Garde Library comprises 6\,000 books\, leaflets and manifestos from the 20th Century. The first three sales will include more than 600 titles spanning from 1910 to 1945 including many works by members of the Dada and Surrealism movements in Paris. The sales will take place on 3rd\, 4th and 5th July in Christie’s Paris.Â A fuller description\, in French\, can be downloaded here. \nThis really is a special opportunity to see these works that have been kept secret for so long and you can attend the guided tour whether or not you come to the lecture on Friday 28th June.
URL:https://cambridgesocietyofparis.com/event/glory-days-of-paris-guided-tour-of-the-destribats-collection/
LOCATION:Christies’s Paris Office\, 9 avenue Matignon\, Paris\, 75008\, France
CATEGORIES:Event
ATTACH;FMTTYPE=image/jpeg:https://cambridgesocietyofparis.com/wp-content/uploads/2019/03/Christies-badge.jpg
ORGANIZER;CN="Cambridge%20Society%20of%20Paris":MAILTO:admin@camsocparis.org
END:VEVENT
END:VCALENDAR