BEGIN:VCALENDAR
VERSION:2.0
PRODID:-//Cambridge Society of Paris - ECPv5.12.2//NONSGML v1.0//EN
CALSCALE:GREGORIAN
METHOD:PUBLISH
X-WR-CALNAME:Cambridge Society of Paris
X-ORIGINAL-URL:https://cambridgesocietyofparis.com
X-WR-CALDESC:Events for Cambridge Society of Paris
REFRESH-INTERVAL;VALUE=DURATION:PT1H
X-Robots-Tag:noindex
X-PUBLISHED-TTL:PT1H
BEGIN:VTIMEZONE
TZID:Europe/Paris
BEGIN:DAYLIGHT
TZOFFSETFROM:+0100
TZOFFSETTO:+0200
TZNAME:CEST
DTSTART:20190331T010000
END:DAYLIGHT
BEGIN:STANDARD
TZOFFSETFROM:+0200
TZOFFSETTO:+0100
TZNAME:CET
DTSTART:20191027T010000
END:STANDARD
END:VTIMEZONE
BEGIN:VEVENT
DTSTART;TZID=Europe/Paris:20190705T100000
DTEND;TZID=Europe/Paris:20190705T143000
DTSTAMP:20260426T012653
CREATED:20190622T150229Z
LAST-MODIFIED:20190916T183931Z
UID:12682-1562320800-1562337000@cambridgesocietyofparis.com
SUMMARY:Dordogne Cambridge Society Summer Visit
DESCRIPTION:Join the Dordogne Cambridge Group for their upcoming visit to the Cloisters of Cadouin. \nThis is a break with tradition: dwhen our group began\, most people lived in this part of the Dordogne and had already seen the main places of interest in the area\, so those places were not usually chosen for group outings\, but some conversations last summer made me realise that so many of us live in other parts of the region that many members have never visited the Dordogne sites. \nSo this is a chance to see one of the most beautiful of them all\, which draws people from all over the world. Even if you have been there before\, you will definitely not be bored: the opulence of the carving is incredible. \nA bonus is that our tour will be followed by lunch at much-appreciatedÂ Restaurant de lâ€™Abbaye which is just across the road. \nMore info on this too will follow soon\, so we can make the necessary reservations in good time.
URL:https://cambridgesocietyofparis.com/event/dordogne-cambridge-society-summer-visit/
LOCATION:Cadouin\, Place de l'Abbaye\, Le Buisson-de-Cadouin\, 24480\, France
CATEGORIES:Event
ATTACH;FMTTYPE=image/jpeg:https://cambridgesocietyofparis.com/wp-content/uploads/2019/06/0007_08_cloitre_de_cadouin-1-1920x640.jpg
ORGANIZER;CN="Dordogne%20Cambridge%20Society":MAILTO:kathy.love@cantab.net
END:VEVENT
END:VCALENDAR