BEGIN:VCALENDAR
VERSION:2.0
PRODID:-//Cambridge Society of Paris - ECPv5.12.2//NONSGML v1.0//EN
CALSCALE:GREGORIAN
METHOD:PUBLISH
X-WR-CALNAME:Cambridge Society of Paris
X-ORIGINAL-URL:https://cambridgesocietyofparis.com
X-WR-CALDESC:Events for Cambridge Society of Paris
REFRESH-INTERVAL;VALUE=DURATION:PT1H
X-Robots-Tag:noindex
X-PUBLISHED-TTL:PT1H
BEGIN:VTIMEZONE
TZID:Europe/Paris
BEGIN:DAYLIGHT
TZOFFSETFROM:+0100
TZOFFSETTO:+0200
TZNAME:CEST
DTSTART:20190331T010000
END:DAYLIGHT
BEGIN:STANDARD
TZOFFSETFROM:+0200
TZOFFSETTO:+0100
TZNAME:CET
DTSTART:20191027T010000
END:STANDARD
END:VTIMEZONE
BEGIN:VEVENT
DTSTART;TZID=Europe/Paris:20190713T200000
DTEND;TZID=Europe/Paris:20190715T200000
DTSTAMP:20260426T013419
CREATED:20190622T145148Z
LAST-MODIFIED:20190916T183949Z
UID:12677-1563048000-1563220800@cambridgesocietyofparis.com
SUMMARY:Homerton's Charter Choir visits Central France
DESCRIPTION:Alumni and guests are invited to join HomertonÂ College Choir for their concerts in FranceÂ FromÂ Saturday 13th July – Monday 15th July. \n\nSaturday 13Â July atÂ 8pm -Â St-GenÃ¨s des Carmes\, Clermont-Ferrand – Free\nSunday 14Â July at 11am -Â Notre-Dame de ChamaliÃ¨res – Free\nSunday 14Â July atÂ 7pm -Â le Chambon-sur-Lignon Protestant Church – Free\nMonday 15Â July atÂ 8pm -Â Notre-Dame Cathedral\, Moulins -Â 15 euros\, (10 euros concessions) Tickets can be purchased on the door
URL:https://cambridgesocietyofparis.com/event/homertons-charter-choir-visits-central-france/
LOCATION:Central France\, France
CATEGORIES:Other-Event
ATTACH;FMTTYPE=image/jpeg:https://cambridgesocietyofparis.com/wp-content/uploads/2019/06/Choir-at-Yale-Divinity-School.jpg
END:VEVENT
END:VCALENDAR