BEGIN:VCALENDAR
VERSION:2.0
PRODID:-//Cambridge Society of Paris - ECPv5.12.2//NONSGML v1.0//EN
CALSCALE:GREGORIAN
METHOD:PUBLISH
X-WR-CALNAME:Cambridge Society of Paris
X-ORIGINAL-URL:https://cambridgesocietyofparis.com
X-WR-CALDESC:Events for Cambridge Society of Paris
REFRESH-INTERVAL;VALUE=DURATION:PT1H
X-Robots-Tag:noindex
X-PUBLISHED-TTL:PT1H
BEGIN:VTIMEZONE
TZID:Europe/Paris
BEGIN:DAYLIGHT
TZOFFSETFROM:+0100
TZOFFSETTO:+0200
TZNAME:CEST
DTSTART:20190331T010000
END:DAYLIGHT
BEGIN:STANDARD
TZOFFSETFROM:+0200
TZOFFSETTO:+0100
TZNAME:CET
DTSTART:20191027T010000
END:STANDARD
END:VTIMEZONE
BEGIN:VEVENT
DTSTART;TZID=Europe/Paris:20190914T180000
DTEND;TZID=Europe/Paris:20190918T160000
DTSTAMP:20260425T220439
CREATED:20190622T144311Z
LAST-MODIFIED:20190916T184006Z
UID:12669-1568484000-1568822400@cambridgesocietyofparis.com
SUMMARY:Queens' College Choir is coming to Paris
DESCRIPTION:Alumni and guests are invited to join Queens’Â College Choir for their concertsÂ in Paris from the 14th – 18thÂ September. \n\nSaturday 14 September at 6pm – Evensong in the American Cathedral\, 23 Avenue George V in the 8th\nSunday 15 September at 11am – Morning Eucharist in the American Cathedral\, 23 Avenue George V in the 8th\nMonday 16 September at 8:30pm – Concert in St-Eugene Ste-Cecile\, 4 Rue du Conservatoire in the 9th\nWednesday 18 September at 4pm – Concert in La Madeleine\, Place de la Madeleine in the 8th\n\nThese concerts are open to all\, so do come along with your friends.
URL:https://cambridgesocietyofparis.com/event/queens-college-choir-is-coming-to-paris/
LOCATION:Paris\, France
CATEGORIES:Event
ATTACH;FMTTYPE=image/jpeg:https://cambridgesocietyofparis.com/wp-content/uploads/2019/06/Queens-Choir.jpg
END:VEVENT
BEGIN:VEVENT
DTSTART;TZID=Europe/Paris:20190916T190000
DTEND;TZID=Europe/Paris:20190916T210000
DTSTAMP:20260425T220439
CREATED:20190607T090452Z
LAST-MODIFIED:20190916T184019Z
UID:3641-1568660400-1568667600@cambridgesocietyofparis.com
SUMMARY:Freshers' Welcome Drinks
DESCRIPTION:Each year\, CamSoc takes part in the Universityâ€™s world-wide program of events for those students who have recently been successful in gaining a place at Cambridge\, whether as an Undergraduate or a Graduate. \nThe aim is to give them an opportunity to meet other new students coming from France and to chat to members about their experience in Cambridge so they are better prepared on arrival in their College at the end of the month. \nWe have again booked the upstairs room of the Frog Revolution\, 9 rue de la Bastille (metro Bastille) with drinks and snacks provided. \nThere will be a charge of â‚¬20 per person for members\, although admission is free for all current students of the University whether members of CamSoc or not and\, of course\, the Freshers.
URL:https://cambridgesocietyofparis.com/event/freshers-welcome-drinks/
LOCATION:Frog Revolution\, 9 rue de Bastille\, Paris\, 75004\, France
CATEGORIES:Event
ATTACH;FMTTYPE=image/jpeg:https://cambridgesocietyofparis.com/wp-content/uploads/2019/05/PARIS-Black.jpg
ORGANIZER;CN="Cambridge%20Society%20of%20Paris":MAILTO:admin@camsocparis.org
END:VEVENT
END:VCALENDAR