BEGIN:VCALENDAR
VERSION:2.0
PRODID:-//Cambridge Society of Paris - ECPv5.12.2//NONSGML v1.0//EN
CALSCALE:GREGORIAN
METHOD:PUBLISH
X-WR-CALNAME:Cambridge Society of Paris
X-ORIGINAL-URL:https://cambridgesocietyofparis.com
X-WR-CALDESC:Events for Cambridge Society of Paris
REFRESH-INTERVAL;VALUE=DURATION:PT1H
X-Robots-Tag:noindex
X-PUBLISHED-TTL:PT1H
BEGIN:VTIMEZONE
TZID:Europe/Paris
BEGIN:DAYLIGHT
TZOFFSETFROM:+0100
TZOFFSETTO:+0200
TZNAME:CEST
DTSTART:20190331T010000
END:DAYLIGHT
BEGIN:STANDARD
TZOFFSETFROM:+0200
TZOFFSETTO:+0100
TZNAME:CET
DTSTART:20191027T010000
END:STANDARD
END:VTIMEZONE
BEGIN:VEVENT
DTSTART;TZID=Europe/Paris:20190921T200000
DTEND;TZID=Europe/Paris:20190922T110000
DTSTAMP:20260425T220441
CREATED:20190622T144609Z
LAST-MODIFIED:20191114T185615Z
UID:12674-1569096000-1569150000@cambridgesocietyofparis.com
SUMMARY:Queens' College Choir will be in Angers
DESCRIPTION:Alumni and guests are invited to join Queens’ College Choir for their concertsÂ in AngersÂ from the 21stÂ – 22ndÂ September. \n\nSaturday 21 September 8pm – Concert in the Palais Episcopal\, 2 Rue du Chanoine Urseau\, with La MaÃ®trise de la CathÃ©drale d’Angers\nSunday 22 September at 11am – Morning Mass in La CathÃ©drale d’Angers\, with La MaÃ®trise de la CathÃ©drale d’Angers\n\nThese events are open to the public\, so do go with your friends.
URL:https://cambridgesocietyofparis.com/event/queens-college-choir-will-be-in-angers/
LOCATION:Angers\, France
CATEGORIES:Other-Event
ATTACH;FMTTYPE=image/jpeg:https://cambridgesocietyofparis.com/wp-content/uploads/2019/06/Queens-Choir.jpg
END:VEVENT
END:VCALENDAR