BEGIN:VCALENDAR
VERSION:2.0
PRODID:-//Cambridge Society of Paris - ECPv5.12.2//NONSGML v1.0//EN
CALSCALE:GREGORIAN
METHOD:PUBLISH
X-WR-CALNAME:Cambridge Society of Paris
X-ORIGINAL-URL:https://cambridgesocietyofparis.com
X-WR-CALDESC:Events for Cambridge Society of Paris
REFRESH-INTERVAL;VALUE=DURATION:PT1H
X-Robots-Tag:noindex
X-PUBLISHED-TTL:PT1H
BEGIN:VTIMEZONE
TZID:Europe/Paris
BEGIN:DAYLIGHT
TZOFFSETFROM:+0100
TZOFFSETTO:+0200
TZNAME:CEST
DTSTART:20190331T010000
END:DAYLIGHT
BEGIN:STANDARD
TZOFFSETFROM:+0200
TZOFFSETTO:+0100
TZNAME:CET
DTSTART:20191027T010000
END:STANDARD
END:VTIMEZONE
BEGIN:VEVENT
DTSTART;TZID=Europe/Paris:20191122T190000
DTEND;TZID=Europe/Paris:20191122T210000
DTSTAMP:20260425T191241
CREATED:20191021T122055Z
LAST-MODIFIED:20191110T163404Z
UID:16565-1574449200-1574456400@cambridgesocietyofparis.com
SUMMARY:Poetry Reading at the American Cathedral
DESCRIPTION:The American Cathedral of the Holy Trinity in Paris  \nPoetry Reading by Sir Michael Edwards\, OBE \n7.00pm Friday 22nd November 2019  \nA novel and charming event combining poetry and music\, in the American Cathedral of the Holy Trinity in Paris. \nThe Cathedral of the Holy Trinity\, the American Cathedral in Paris\, has decided to instigate poetry readings in the Cathedral and\, through the Dean and Rector\, the Very Reverend Lucinda Laird\, the Cambridge Society of Paris has been invited to co-host the inaugural event. We are honoured and delighted. \nThis first event will be a reading by Sir Michael Edwards of poems from his latest publication: At the Brasserie Lipp. Following the poetry reading\, there will be a reception with drinks and light snacks\, accompanied by piano music played no one of the magnificent grand pianos at the American Cathedral. \nAs well as the event itself\, for anyone who does not already know the American Cathedral\, this will be a revelation and joy\, being one of the finest examples of English Gothic Revival architecture in Europe\, founded by Dr John Brainerd Morgan\, cousin of J.P. Morgan. \nSir Michael Edwards\, Honorary Fellow of Christâ€™s College\, Cambridge\, is very well known as being the first Englishman ever to have been elected to the CollÃ¨ge de France (2002) and to one of the 40 seats of the AcadÃ©mie FranÃ§aise (2013). Following his reading\, Sir Michael will make available signed copies of his book\, At the Brasserie Lipp. \nIn the spirit of the occasion\, this event is entirely free of charge\, though there will be a voluntary collection\, to be donated to the cathedral and to cover the costs of the evening. \nYou are very warmly invited to this inaugural and delightful event. \nAndrew Lyndon-Skeggs.
URL:https://cambridgesocietyofparis.com/event/poetry-reading-at-the-american-cathedral/
LOCATION:American Cathedral\, 23 Avenue George V\, Paris\, 75008\, France
CATEGORIES:Event
ATTACH;FMTTYPE=image/jpeg:https://cambridgesocietyofparis.com/wp-content/uploads/2019/10/Sir-Michael-Edwards.jpg
ORGANIZER;CN="Cambridge%20Society%20of%20Paris":MAILTO:admin@camsocparis.org
END:VEVENT
END:VCALENDAR