BEGIN:VCALENDAR
VERSION:2.0
PRODID:-//Cambridge Society of Paris - ECPv5.12.2//NONSGML v1.0//EN
CALSCALE:GREGORIAN
METHOD:PUBLISH
X-WR-CALNAME:Cambridge Society of Paris
X-ORIGINAL-URL:https://cambridgesocietyofparis.com
X-WR-CALDESC:Events for Cambridge Society of Paris
REFRESH-INTERVAL;VALUE=DURATION:PT1H
X-Robots-Tag:noindex
X-PUBLISHED-TTL:PT1H
BEGIN:VTIMEZONE
TZID:Europe/Paris
BEGIN:DAYLIGHT
TZOFFSETFROM:+0100
TZOFFSETTO:+0200
TZNAME:CEST
DTSTART:20200329T010000
END:DAYLIGHT
BEGIN:STANDARD
TZOFFSETFROM:+0200
TZOFFSETTO:+0100
TZNAME:CET
DTSTART:20201025T010000
END:STANDARD
END:VTIMEZONE
BEGIN:VEVENT
DTSTART;TZID=Europe/Paris:20201126T180000
DTEND;TZID=Europe/Paris:20201126T193000
DTSTAMP:20260424T231244
CREATED:20201110T134952Z
LAST-MODIFIED:20201119T171836Z
UID:21673-1606413600-1606419000@cambridgesocietyofparis.com
SUMMARY:Entrepreneurship and Building a Better World
DESCRIPTION:The Cambridge Society of Paris is launching a series of events\, currently on Zoom\, aimed at those who are involved – or just interested – in all aspects relating to being an Entrepreneur. \nLed by Committee Member Nicolas Nouvel\, a series of forums will be held in which a selected panel of Deep Tech entrepreneurs will have an opportunity promote their business\, increase their visibility and potentially get some support towards success. By Deep Tech entrepreneurs we mean people who own some specific patent or know-how in Clean Technologies\, hence they will have some innovative and inspirational ways of building a better world by driving the adoption of cleaner technologies in essential yet highly polluting industries. \nThe first event will take place at 6pm on Thursday 26th November\, on Zoom\, and is expected last about 90 minutes. \nThe first half will be a panel discussion\, followed by Q&A in the second half. \nPlease sign up using the ticket application box below. The link to the Zoom meeting will be sent to registered participants a couple of days before the event.
URL:https://cambridgesocietyofparis.com/event/entrepreneurship-and-building-a-better-world/
LOCATION:Virtual Zoom meeting\, Your location\, France
ATTACH;FMTTYPE=image/jpeg:https://cambridgesocietyofparis.com/wp-content/uploads/2020/11/Entrepreneurship-1.jpg
ORGANIZER;CN="Cambridge%20Society%20of%20Paris":MAILTO:admin@camsocparis.org
END:VEVENT
END:VCALENDAR