BEGIN:VCALENDAR
VERSION:2.0
PRODID:-//Cambridge Society of Paris - ECPv5.12.2//NONSGML v1.0//EN
CALSCALE:GREGORIAN
METHOD:PUBLISH
X-WR-CALNAME:Cambridge Society of Paris
X-ORIGINAL-URL:https://cambridgesocietyofparis.com
X-WR-CALDESC:Events for Cambridge Society of Paris
REFRESH-INTERVAL;VALUE=DURATION:PT1H
X-Robots-Tag:noindex
X-PUBLISHED-TTL:PT1H
BEGIN:VTIMEZONE
TZID:Europe/Paris
BEGIN:DAYLIGHT
TZOFFSETFROM:+0100
TZOFFSETTO:+0200
TZNAME:CEST
DTSTART:20210328T010000
END:DAYLIGHT
BEGIN:STANDARD
TZOFFSETFROM:+0200
TZOFFSETTO:+0100
TZNAME:CET
DTSTART:20211031T010000
END:STANDARD
END:VTIMEZONE
BEGIN:VEVENT
DTSTART;TZID=Europe/Paris:20210112T190000
DTEND;TZID=Europe/Paris:20210112T203000
DTSTAMP:20260424T194041
CREATED:20201205T141411Z
LAST-MODIFIED:20201205T141613Z
UID:21812-1610478000-1610483400@cambridgesocietyofparis.com
SUMMARY:Third Cambridge Cutting Edge Lecture
DESCRIPTION:THIRD CAMBRIDGE CUTTING EDGE LECTURE  \nPROFESSOR PASCALE COSSARTÂ Â  \nâ€œTHE EVOLVING SITUATION OF COVID-19 AND RECENT ADVANCES IN DEVELOPMENT AND PRODUCTION OF VACCINESâ€  \n7pm Tuesday 12th January 2021 \nPresentation on ZOOM \nthe meeting link will be sent to registered participants on Friday 8th January \nProfessor Pascale Cossart\, of the Institut Pasteur\, is one of France’s leading biologists. The recipient of many national and international awards\, she is SecrÃ©taire perpÃ©tuel pour la division Sciences chimiques\, biologiques et mÃ©dicales\, et leurs applications de l’ AcadÃ©mie des sciencess and a Foreign Member of the Royal Society of London.
URL:https://cambridgesocietyofparis.com/event/21812/
LOCATION:Virtual Zoom meeting\, Your location\, France
ATTACH;FMTTYPE=image/jpeg:https://cambridgesocietyofparis.com/wp-content/uploads/2020/12/Cossart-1.jpg
ORGANIZER;CN="Cambridge%20Society%20of%20Paris":MAILTO:admin@camsocparis.org
END:VEVENT
END:VCALENDAR