BEGIN:VCALENDAR
VERSION:2.0
PRODID:-//Cambridge Society of Paris - ECPv5.12.2//NONSGML v1.0//EN
CALSCALE:GREGORIAN
METHOD:PUBLISH
X-WR-CALNAME:Cambridge Society of Paris
X-ORIGINAL-URL:https://cambridgesocietyofparis.com
X-WR-CALDESC:Events for Cambridge Society of Paris
REFRESH-INTERVAL;VALUE=DURATION:PT1H
X-Robots-Tag:noindex
X-PUBLISHED-TTL:PT1H
BEGIN:VTIMEZONE
TZID:Europe/Paris
BEGIN:DAYLIGHT
TZOFFSETFROM:+0100
TZOFFSETTO:+0200
TZNAME:CEST
DTSTART:20210328T010000
END:DAYLIGHT
BEGIN:STANDARD
TZOFFSETFROM:+0200
TZOFFSETTO:+0100
TZNAME:CET
DTSTART:20211031T010000
END:STANDARD
END:VTIMEZONE
BEGIN:VEVENT
DTSTART;TZID=Europe/Paris:20210128T180000
DTEND;TZID=Europe/Paris:20210128T193000
DTSTAMP:20260424T194041
CREATED:20201209T164015Z
LAST-MODIFIED:20201223T125040Z
UID:21845-1611856800-1611862200@cambridgesocietyofparis.com
SUMMARY:Entrepreneurship and Building a Better World - Our second panel discussion
DESCRIPTION:We are delighted to confirm the participation of three great panelists for the second Cambridge Society of Paris “Entrepreneurship and Building a Better World” Panel Discussion. This time\, we will be at the interface between Entrepreneurship and Sustainability\, with the focus on â€œInnovative collaboration models to grow sustainability-driven communitiesâ€. \n \nOur three panelists are: \nDomini Hogg\, Founder of Tried and Supplied\, linkedin.com/in/domini-hogg-éƒæ€¡ç³-56286441 \nDr. Simon Engelke\, Founder & Chair of Battery Associates\, linkedin.com/in/simonengelke \nRudradeb Mitra\, Founder of Omdena\,Â  linkedin.com/in/mitrar \nThey are deploying innovative collaboration models and building sustainability-driven communities in their own respective fields! Three inspirational people to look forward to spending part of your evening with on 28th January 2021.
URL:https://cambridgesocietyofparis.com/event/entrepreneurship-and-building-a-better-world-our-second-panel-discussion/
LOCATION:Virtual Zoom meeting\, Your location\, France
ATTACH;FMTTYPE=image/jpeg:https://cambridgesocietyofparis.com/wp-content/uploads/2020/11/Entrepreneurship-1.jpg
ORGANIZER;CN="Cambridge%20Society%20of%20Paris":MAILTO:admin@camsocparis.org
END:VEVENT
END:VCALENDAR