BEGIN:VCALENDAR
VERSION:2.0
PRODID:-//Cambridge Society of Paris - ECPv5.12.2//NONSGML v1.0//EN
CALSCALE:GREGORIAN
METHOD:PUBLISH
X-WR-CALNAME:Cambridge Society of Paris
X-ORIGINAL-URL:https://cambridgesocietyofparis.com
X-WR-CALDESC:Events for Cambridge Society of Paris
REFRESH-INTERVAL;VALUE=DURATION:PT1H
X-Robots-Tag:noindex
X-PUBLISHED-TTL:PT1H
BEGIN:VTIMEZONE
TZID:Europe/Paris
BEGIN:DAYLIGHT
TZOFFSETFROM:+0100
TZOFFSETTO:+0200
TZNAME:CEST
DTSTART:20210328T010000
END:DAYLIGHT
BEGIN:STANDARD
TZOFFSETFROM:+0200
TZOFFSETTO:+0100
TZNAME:CET
DTSTART:20211031T010000
END:STANDARD
END:VTIMEZONE
BEGIN:VEVENT
DTSTART;TZID=Europe/Paris:20210222T203000
DTEND;TZID=Europe/Paris:20210222T220000
DTSTAMP:20260424T175922
CREATED:20210216T083108Z
LAST-MODIFIED:20210216T083108Z
UID:22261-1614025800-1614031200@cambridgesocietyofparis.com
SUMMARY:Achievements and Challenges in Weather Forecasting
DESCRIPTION:Advances in weather modelling have been driven as much by technological development as by improvements in weather science. The most notable of these are the rapid increases in supercomputer power and improvements in Earth observations from space. Rapidly improving modelling capability enabled by this technology has led to 3-day weather forecasts today being as accurate as 1-day forecasts were 20 years ago. \n \nDr Vicky Pope (Girton) will outline some of these improvements and where further improvements are still needed. Vicky is an honorary Professor at the Science Technology Engineering and Public Policy Institute at University College London. She had a long and varied career in the Met Office. She worked for many years on climate change. She led the development of some of the best climate models in the world and later ran the Met Office Hadley Centre Climate Programme\, acting as the interface between scientists and government and other key stakeholders including the media.
URL:https://cambridgesocietyofparis.com/event/achievements-and-challenges-in-weather-forecasting/
LOCATION:Virtual Zoom meeting\, Your location\, France
ATTACH;FMTTYPE=image/jpeg:https://cambridgesocietyofparis.com/wp-content/uploads/2021/02/images.jpg
END:VEVENT
END:VCALENDAR