BEGIN:VCALENDAR
VERSION:2.0
PRODID:-//Cambridge Society of Paris - ECPv5.12.2//NONSGML v1.0//EN
CALSCALE:GREGORIAN
METHOD:PUBLISH
X-WR-CALNAME:Cambridge Society of Paris
X-ORIGINAL-URL:https://cambridgesocietyofparis.com
X-WR-CALDESC:Events for Cambridge Society of Paris
REFRESH-INTERVAL;VALUE=DURATION:PT1H
X-Robots-Tag:noindex
X-PUBLISHED-TTL:PT1H
BEGIN:VTIMEZONE
TZID:Europe/Paris
BEGIN:DAYLIGHT
TZOFFSETFROM:+0100
TZOFFSETTO:+0200
TZNAME:CEST
DTSTART:20210328T010000
END:DAYLIGHT
BEGIN:STANDARD
TZOFFSETFROM:+0200
TZOFFSETTO:+0100
TZNAME:CET
DTSTART:20211031T010000
END:STANDARD
END:VTIMEZONE
BEGIN:VEVENT
DTSTART;TZID=Europe/Paris:20210413T190000
DTEND;TZID=Europe/Paris:20210413T203000
DTSTAMP:20260424T144553
CREATED:20210214T085920Z
LAST-MODIFIED:20210309T152453Z
UID:22159-1618340400-1618345800@cambridgesocietyofparis.com
SUMMARY:Robert W Hanning - Stories for an Uncertain World
DESCRIPTION:The social fabric of human communities is woven primarily from the creation\, transmission\, and reception of stories.Â  Is it merely an accident that Western Europeâ€™s two greatest tale collections originated within a long generation of each other\, or is there something important we can learn about the culture of late medieval European civilization from a comparison of Giovanni Boccaccioâ€™s Decameron (1350s) and Geoffrey Chaucerâ€™s Canterbury Tales (1380s-early 1390s)?Â  In fact\, for all their differences\, the Decameron and the Canterbury Tales frequently align in telling â€œstories for an uncertain worldâ€â€”a world shown to be challenged by radical uncertainties of knowledge\, perception\, and strategy\, and lacking the serene comfort of faith in Divine Providence so often thought to characterize the medieval centuries. Â A comparison of passages\, and stories\, from both collections suggests instead that the necessary and proper response to their world is to deploy skills of calculation and deliberation that generate deeds\, and supporting words\, designed to control\, as much as is possible\, lifeâ€™s ever changing circumstances.Â  Seen from this perspective\, the frequent goal in these wonderfully told tales is not salvation but agency\, Â and the appropriate virtue\, rather than holiness\, is a modified version of what Aristotle called â€œpractical wisdomâ€ (phrÃ³nesis) and we\, following Cicero\, call prudence (prudentia). Â  \n******* \nRobert W. Hanning\, Professor Emeritus of English and Comparative Literature at Columbia University\, holds degrees from Columbia and Oxford.Â  Recipient of Guggenheim\, ACLS\, NEH\, and Rockefeller Foundation Fellowships\, he gave the New Chaucer Societyâ€™s Biennial Chaucer Lecture in 1998 at the Sorbonne.Â  He has published three books on classical\, medieval\, and Renaissance subjects and has co-translated two major medieval French texts.Â  His monograph\, â€œStories for an Uncertain World: Agency in Boccaccioâ€™s Decameron and Chaucerâ€™s Canterbury Tales\,â€ is to be published by Oxford University Press.
URL:https://cambridgesocietyofparis.com/event/robert-w-hanning-stories-for-an-uncertain-world/
LOCATION:Virtual Zoom meeting\, Your location\, France
ATTACH;FMTTYPE=image/jpeg:https://cambridgesocietyofparis.com/wp-content/uploads/2021/02/Robert-W.-Hanning_Picture.jpg
ORGANIZER;CN="Cambridge%20Society%20of%20Paris":MAILTO:admin@camsocparis.org
END:VEVENT
END:VCALENDAR