BEGIN:VCALENDAR
VERSION:2.0
PRODID:-//Cambridge Society of Paris - ECPv5.12.2//NONSGML v1.0//EN
CALSCALE:GREGORIAN
METHOD:PUBLISH
X-WR-CALNAME:Cambridge Society of Paris
X-ORIGINAL-URL:https://cambridgesocietyofparis.com
X-WR-CALDESC:Events for Cambridge Society of Paris
REFRESH-INTERVAL;VALUE=DURATION:PT1H
X-Robots-Tag:noindex
X-PUBLISHED-TTL:PT1H
BEGIN:VTIMEZONE
TZID:Europe/Paris
BEGIN:DAYLIGHT
TZOFFSETFROM:+0100
TZOFFSETTO:+0200
TZNAME:CEST
DTSTART:20210328T010000
END:DAYLIGHT
BEGIN:STANDARD
TZOFFSETFROM:+0200
TZOFFSETTO:+0100
TZNAME:CET
DTSTART:20211031T010000
END:STANDARD
END:VTIMEZONE
BEGIN:VEVENT
DTSTART;TZID=Europe/Paris:20210427T190000
DTEND;TZID=Europe/Paris:20210427T203000
DTSTAMP:20260424T132424
CREATED:20210214T090240Z
LAST-MODIFIED:20210317T152131Z
UID:22218-1619550000-1619555400@cambridgesocietyofparis.com
SUMMARY:Katie Derham - The Great Silence... the power of music during the pandemic
DESCRIPTION:The face of theÂ BBC Proms\, Katie has been presenting the BBCâ€™s coverage of the yearly musical extravaganza for the past eleven years. With a career in broadcasting spanning over two decades\, Katie has collected an impressive number of credits\, working as an award winning journalist and presenter in both radio and television. She regularly presents the drive time show\, In Tune\, on BBC Radio 3\, interviewing the biggest names in music and the arts\, and in 2019 joined forces with Radio France Musique for a unique broadcasting exchange. \nKatie joined ITV News as Media and Arts Correspondent in 1998 and\, as a 27-year-old\, became the youngest newscaster on British national television and the youngest in ITN history. Always up for a challenge\, Katie learned how to conduct on the BBC reality series Maestro\, dusted off her violin for the Sky Arts series First Love\, and danced her way to the final of Strictly Come Dancing in 2015. She runs her own production company\, Peanut and Crumb.Â 
URL:https://cambridgesocietyofparis.com/event/katie-derham-dancing-through-the-proms/
LOCATION:Virtual Zoom meeting\, Your location\, France
ATTACH;FMTTYPE=image/jpeg:https://cambridgesocietyofparis.com/wp-content/uploads/2021/02/katie.jpg
ORGANIZER;CN="Cambridge%20Society%20of%20Paris":MAILTO:admin@camsocparis.org
END:VEVENT
END:VCALENDAR