BEGIN:VCALENDAR
VERSION:2.0
PRODID:-//Cambridge Society of Paris - ECPv5.12.2//NONSGML v1.0//EN
CALSCALE:GREGORIAN
METHOD:PUBLISH
X-WR-CALNAME:Cambridge Society of Paris
X-ORIGINAL-URL:https://cambridgesocietyofparis.com
X-WR-CALDESC:Events for Cambridge Society of Paris
REFRESH-INTERVAL;VALUE=DURATION:PT1H
X-Robots-Tag:noindex
X-PUBLISHED-TTL:PT1H
BEGIN:VTIMEZONE
TZID:Europe/Paris
BEGIN:DAYLIGHT
TZOFFSETFROM:+0100
TZOFFSETTO:+0200
TZNAME:CEST
DTSTART:20210328T010000
END:DAYLIGHT
BEGIN:STANDARD
TZOFFSETFROM:+0200
TZOFFSETTO:+0100
TZNAME:CET
DTSTART:20211031T010000
END:STANDARD
END:VTIMEZONE
BEGIN:VEVENT
DTSTART;TZID=Europe/Paris:20210517T190000
DTEND;TZID=Europe/Paris:20210517T203000
DTSTAMP:20260424T132256
CREATED:20210214T090407Z
LAST-MODIFIED:20210317T145701Z
UID:22213-1621278000-1621283400@cambridgesocietyofparis.com
SUMMARY:The ups and downs in the life of a top civil servant close to the heart of Government
DESCRIPTION:We invite you to join us in a presentation by Jonathan Slater\, former Permanent Secretary of the Department for Education in London until summer 2020\, when Boris decided to make a change. He is now now visiting Professor at Kingâ€™s College and at Queen Mary University\, London
URL:https://cambridgesocietyofparis.com/event/the-ups-and-downs-in-the-life-of-a-top-civil-servant-close-to-the-heart-of-government/
LOCATION:Virtual Zoom meeting\, Your location\, France
ATTACH;FMTTYPE=image/jpeg:https://cambridgesocietyofparis.com/wp-content/uploads/2021/02/Jonathan_Slater.jpg
ORGANIZER;CN="Cambridge%20Society%20of%20Paris":MAILTO:admin@camsocparis.org
END:VEVENT
END:VCALENDAR