BEGIN:VCALENDAR
VERSION:2.0
PRODID:-//Cambridge Society of Paris - ECPv5.12.2//NONSGML v1.0//EN
CALSCALE:GREGORIAN
METHOD:PUBLISH
X-WR-CALNAME:Cambridge Society of Paris
X-ORIGINAL-URL:https://cambridgesocietyofparis.com
X-WR-CALDESC:Events for Cambridge Society of Paris
REFRESH-INTERVAL;VALUE=DURATION:PT1H
X-Robots-Tag:noindex
X-PUBLISHED-TTL:PT1H
BEGIN:VTIMEZONE
TZID:Europe/Paris
BEGIN:DAYLIGHT
TZOFFSETFROM:+0100
TZOFFSETTO:+0200
TZNAME:CEST
DTSTART:20210328T010000
END:DAYLIGHT
BEGIN:STANDARD
TZOFFSETFROM:+0200
TZOFFSETTO:+0100
TZNAME:CET
DTSTART:20211031T010000
END:STANDARD
END:VTIMEZONE
BEGIN:VEVENT
DTSTART;TZID=Europe/Paris:20210525T190000
DTEND;TZID=Europe/Paris:20210525T203000
DTSTAMP:20260424T132319
CREATED:20210417T072710Z
LAST-MODIFIED:20210417T072710Z
UID:22705-1621969200-1621974600@cambridgesocietyofparis.com
SUMMARY:Oxford and Cambridge Poetry and Prose Reading
DESCRIPTION:We are pleased to announce the third Oxford and Cambridge virtual prose and poetry reading on Tuesday 25th May at 7pm. It will take place on Zoom.\nThis event is open & without charge to all members of both Societies. Please register on the Cambridge website to participate. \nThis month\, we have decided that we need to anticipate the end of the restrictions on our movements we have endured on and off for over a year now\, but in particular in April when we were pretty much limited to a circle of 10 kms around our homes. This means that the theme of the readings is â€œTravellingâ€. Each reader should plan to come with two readings\, each of 3 to 5 minutes (maximum) long. \nThus\, in the 90 minutes available\, you can expect to read both pieces. Paul Tracy (Oxford) will again act as moderator for the evening.
URL:https://cambridgesocietyofparis.com/event/oxford-and-cambridge-poetry-and-prose-reading/
LOCATION:Virtual Zoom meeting\, Your location\, France
ATTACH;FMTTYPE=image/jpeg:https://cambridgesocietyofparis.com/wp-content/uploads/2020/12/Poetry-Reading-Vittorio-Reggianini-Oil-Painting.jpg
ORGANIZER;CN="Cambridge%20Society%20of%20Paris":MAILTO:admin@camsocparis.org
END:VEVENT
END:VCALENDAR