BEGIN:VCALENDAR
VERSION:2.0
PRODID:-//Cambridge Society of Paris - ECPv5.12.2//NONSGML v1.0//EN
CALSCALE:GREGORIAN
METHOD:PUBLISH
X-WR-CALNAME:Cambridge Society of Paris
X-ORIGINAL-URL:https://cambridgesocietyofparis.com
X-WR-CALDESC:Events for Cambridge Society of Paris
REFRESH-INTERVAL;VALUE=DURATION:PT1H
X-Robots-Tag:noindex
X-PUBLISHED-TTL:PT1H
BEGIN:VTIMEZONE
TZID:Europe/Paris
BEGIN:DAYLIGHT
TZOFFSETFROM:+0100
TZOFFSETTO:+0200
TZNAME:CEST
DTSTART:20210328T010000
END:DAYLIGHT
BEGIN:STANDARD
TZOFFSETFROM:+0200
TZOFFSETTO:+0100
TZNAME:CET
DTSTART:20211031T010000
END:STANDARD
END:VTIMEZONE
BEGIN:VEVENT
DTSTART;TZID=Europe/Paris:20210603T190000
DTEND;TZID=Europe/Paris:20210603T203000
DTSTAMP:20260424T115809
CREATED:20210214T090524Z
LAST-MODIFIED:20210523T125121Z
UID:22175-1622746800-1622752200@cambridgesocietyofparis.com
SUMMARY:Martin Rees - The World in 2050 - and Beyond
DESCRIPTION:Martin Rees\, Baron Rees of Ludlow\,Â OM\, FRS\, FREng\, FMedSci\, FRASÂ is aÂ BritishÂ cosmologistÂ andÂ astrophysicist. He has beenÂ Astronomer RoyalÂ since 1995Â and wasÂ MasterÂ ofÂ Trinity College\, CambridgeÂ from 2004 to 2012 andÂ President of the Royal SocietyÂ between 2005 and 2010. \nMartinâ€™s field is astronomy where he has achieved many important results\, and recently Martin has founded the Centre for the Study of Existential Risk at Cambridge University\, where he studies the fundamental threats and risks to humanity. \nIn his book\, “On the Future: Prospects for Humanity” published in 2018\, he demonstrates that humanity has reached a critical moment. Our world is unsettled and rapidly changing\, and we face existential risks over the next century. Various outcomesâ€”good and badâ€”are possible. Yet our approach to the future is characterized by short-term thinking\, polarizing debates\, alarmist rhetoric\, and pessimism. In this short\, exhilarating book\, Martin argues that humanityâ€™s prospects depend on our taking a very different approach to planning for tomorrow.
URL:https://cambridgesocietyofparis.com/event/martin-rees-the-world-in-2050-and-beyond/
LOCATION:Virtual Zoom meeting\, Your location\, France
ATTACH;FMTTYPE=image/jpeg:https://cambridgesocietyofparis.com/wp-content/uploads/2021/02/Martin-Rees.jpg
ORGANIZER;CN="Cambridge%20Society%20of%20Paris":MAILTO:admin@camsocparis.org
END:VEVENT
END:VCALENDAR