BEGIN:VCALENDAR
VERSION:2.0
PRODID:-//Cambridge Society of Paris - ECPv5.12.2//NONSGML v1.0//EN
CALSCALE:GREGORIAN
METHOD:PUBLISH
X-WR-CALNAME:Cambridge Society of Paris
X-ORIGINAL-URL:https://cambridgesocietyofparis.com
X-WR-CALDESC:Events for Cambridge Society of Paris
REFRESH-INTERVAL;VALUE=DURATION:PT1H
X-Robots-Tag:noindex
X-PUBLISHED-TTL:PT1H
BEGIN:VTIMEZONE
TZID:Europe/Paris
BEGIN:DAYLIGHT
TZOFFSETFROM:+0100
TZOFFSETTO:+0200
TZNAME:CEST
DTSTART:20210328T010000
END:DAYLIGHT
BEGIN:STANDARD
TZOFFSETFROM:+0200
TZOFFSETTO:+0100
TZNAME:CET
DTSTART:20211031T010000
END:STANDARD
END:VTIMEZONE
BEGIN:VEVENT
DTSTART;TZID=Europe/Paris:20210617T190000
DTEND;TZID=Europe/Paris:20210617T203000
DTSTAMP:20260424T115724
CREATED:20210413T130116Z
LAST-MODIFIED:20210518T082057Z
UID:22685-1623956400-1623961800@cambridgesocietyofparis.com
SUMMARY:Dr Peter Hicks - Napoleon and the British\, before and during St Helena
DESCRIPTION:The first ever biographies of Napoleon were written not in French but in English\, the only serious biographies of the Consul and later Emperor were written in the same language and during his lifetime. During both of his abdications and exiles\, â€˜Boneyâ€™ was frequently the subject of book\, newspaper articles\, etc. The exile on St Helena was to provide for the springboard for an obsession in the English-language world that lasts to this day. My talk will discuss this little-known\, British part in the telling of the Napoleon story. \n \nPeter Hicks is an historian of the Napoleonic period and International Affairs manager at the Fondation NapolÃ©on\, Paris. He was Visiting Professor at the University of Bath (UK) (2008-2018) and is an Honorary Fellow of the Institute on Napoleon and the French Revolution\, Florida State University\, USA. He also is ChargÃ© de cours at the Institut Catholic des Etudes SupÃ©rieures (ICES) La Roche sur Yon. His recent books include â€“Â  (ed.)\, Emmanuel de Las Cases\, Le MÃ©morial de Sainte HÃ©lÃ¨ne: Le manuscript retrouvÃ©\, critical edition\, with presentation and commentary with Thierry Lentz\, FranÃ§ois Houdecek and Chantal Prevot\, Perrin 2017\, (ed.) La bataille de Waterloo : symbole de victoire\, de dÃ©faite et lieu de mÃ©moire/Battle of Waterloo : Introductions to the Lectures and After-Thoughts â€“ in English\, (Les Ã©ditions de la Belle alliance\, 2015) and The Napoleonic Empire and the New European Political Culture\, with Michael Broers and Agustin Guimera\, (Palgrave Macmillan\, 2012). His current publication projects include: joint-editor of volume 3 of Cambridge History of the Napoleonic Wars\, (CUP 2020)\, a selection of British witnesses to Napoleon on St Helena (Perrin 2021). He also a musician. Recent Napoleonic projects include the creation\, organization and performance of a week-long Festival of Napoleonic and Georgian music on the island of St Helena (May 2019) (concerts\, recital\, singing day) and a concert of Napoleonic music\, HÃ´tel des Invalides\, Paris\, 24 May 2018 (choir\, soloists and orchestra). His upcoming Napoleonic musical projects include: a Napoleonic recital (piano and voice)\, Lucca\, Italy\, August 2021 (covid permitting\, but it is open airâ€¦)\, and the creation\, organization and Â conducting of two concerts of famous and rare Napoleonic music\, HÃ´tel des Invalides\, October 2021 (choir\, soloists and orchestra).
URL:https://cambridgesocietyofparis.com/event/dr-peter-hicks-napoleon-and-the-british-before-and-during-st-helena/
LOCATION:Virtual Zoom meeting\, Your location\, France
ATTACH;FMTTYPE=image/jpeg:https://cambridgesocietyofparis.com/wp-content/uploads/2021/04/istockphoto-1155175658-1024x1024-1.jpg
ORGANIZER;CN="Cambridge%20Society%20of%20Paris":MAILTO:admin@camsocparis.org
END:VEVENT
END:VCALENDAR