BEGIN:VCALENDAR
VERSION:2.0
PRODID:-//Cambridge Society of Paris - ECPv5.12.2//NONSGML v1.0//EN
CALSCALE:GREGORIAN
METHOD:PUBLISH
X-WR-CALNAME:Cambridge Society of Paris
X-ORIGINAL-URL:https://cambridgesocietyofparis.com
X-WR-CALDESC:Events for Cambridge Society of Paris
REFRESH-INTERVAL;VALUE=DURATION:PT1H
X-Robots-Tag:noindex
X-PUBLISHED-TTL:PT1H
BEGIN:VTIMEZONE
TZID:Europe/Paris
BEGIN:DAYLIGHT
TZOFFSETFROM:+0100
TZOFFSETTO:+0200
TZNAME:CEST
DTSTART:20210328T010000
END:DAYLIGHT
BEGIN:STANDARD
TZOFFSETFROM:+0200
TZOFFSETTO:+0100
TZNAME:CET
DTSTART:20211031T010000
END:STANDARD
END:VTIMEZONE
BEGIN:VEVENT
DTSTART;TZID=Europe/Paris:20210908T190000
DTEND;TZID=Europe/Paris:20210908T203000
DTSTAMP:20260424T075953
CREATED:20210515T134317Z
LAST-MODIFIED:20210825T083246Z
UID:22889-1631127600-1631133000@cambridgesocietyofparis.com
SUMMARY:Peter Elliott - The â€˜artâ€™ of self-publishing: a view by a Trinity lawyer\, an escapist into history
DESCRIPTION:Peter will tell a story of a Cambridge Law tripos student\, who should have read history\, but devoted a career to law\, and then in retirement switched back to his first love\, history. \nFrom his rustic base in the Languedoc\, far from sophisticated libraries\, Peter carries out most of his research remotely. He will cover: \n\nuse of archives\, libraries\, databases;\nbuilding a network relating to the subject and topic; –\ncombining text and image to tell a story;\nhe art of self -publishing\, and in particular use of the KDP Amazon self-platform.\n\nPeter Elliott: \n \nAfter leaving Â school in South Africa\, and gaining a first degree at Cape Town University\, Peter Elliott won a national scholarship to Cambridge in 1971\, where he read law at Trinity (1971-1974). After graduating he qualified as a solicitor and pursued a legal career in England\, in private practice and in industry. After retiring at the end 2011\, he and his wife Maddy moved to the Languedoc\, France\, where they live surrounded by vines\, in a landscape not unlike parts of the Western Cape. \nPeterâ€™s lifelong interest in history Â drew him to biography. He has researched and published five titles\, Â all with some focus on his country of origin\, South Africa. Two are distinctly art biographies\, but also tell a social and political history.
URL:https://cambridgesocietyofparis.com/event/peter-elliott-the-art-of-self-publishing-a-view-by-a-trinity-lawyer-an-escapist-into-history/
LOCATION:Virtual Zoom meeting\, Your location\, France
ATTACH;FMTTYPE=image/jpeg:https://cambridgesocietyofparis.com/wp-content/uploads/2021/05/Peter-Elliott-Five-Books-focus-art-histories.jpg
ORGANIZER;CN="Cambridge%20Society%20of%20Paris":MAILTO:admin@camsocparis.org
END:VEVENT
END:VCALENDAR