BEGIN:VCALENDAR
VERSION:2.0
PRODID:-//Cambridge Society of Paris - ECPv5.12.2//NONSGML v1.0//EN
CALSCALE:GREGORIAN
METHOD:PUBLISH
X-WR-CALNAME:Cambridge Society of Paris
X-ORIGINAL-URL:https://cambridgesocietyofparis.com
X-WR-CALDESC:Events for Cambridge Society of Paris
REFRESH-INTERVAL;VALUE=DURATION:PT1H
X-Robots-Tag:noindex
X-PUBLISHED-TTL:PT1H
BEGIN:VTIMEZONE
TZID:Europe/Paris
BEGIN:DAYLIGHT
TZOFFSETFROM:+0100
TZOFFSETTO:+0200
TZNAME:CEST
DTSTART:20220327T010000
END:DAYLIGHT
BEGIN:STANDARD
TZOFFSETFROM:+0200
TZOFFSETTO:+0100
TZNAME:CET
DTSTART:20221030T010000
END:STANDARD
END:VTIMEZONE
BEGIN:VEVENT
DTSTART;TZID=Europe/Paris:20220315T190000
DTEND;TZID=Europe/Paris:20220315T223000
DTSTAMP:20260423T174733
CREATED:20220222T144054Z
LAST-MODIFIED:20220308T232118Z
UID:24094-1647370800-1647383400@cambridgesocietyofparis.com
SUMMARY:Dinner-Talk at the Sénat
DESCRIPTION:TICKET SALES FOR THIS EVENT HAVE NOW CLOSED \nWe have an excellent opportunity to find out about the challenges relating to political opinion polls from Mr Henri Wallard\, CEO France and Group Deputy CEO of Ipsos. More information about the topic of the talk will be provided shortly. \nWe have also been fortunate to be able to secure an appropriate venue for such a topic\, the Sénat. 15ter rue de Vaugirard\, Paris 6eme. \n \nThere will be a welcome aperitif from 7pm\, followed by a three-course dinner starting at 7:30pm. We have selected a fish menu\, but do request that you indicate any dietary requirements you have in your booking form as the Sénat’s restaurant can provide a vegetarian or vegan option as long as we inform them in advance. \nDue to the security conditions at the Sénat\, it is essential that you arrive between 7pm and 7:45pm – the doors will be closed at 7:45pm sharp so any late arrivals will\, unfortunately not be able to join the dinner. \nTickets are €55 per person\, with a discounted ticket available at €40 for those of you under 30 years of age. To book\, please use the booking section below\, and click on the “+” sign to the right of the appropriate ticket category \nWe are required to provide a nominative list of participants\, including date of birth\, four days before the event and no changes to that list can be made. This means that you must book your places no later than 8th March\, and no refunds for cancellations will be given after that date. You will need to show a photo-ID document to be allowed into the Sénat\, together with a valid pass vaccinal.
URL:https://cambridgesocietyofparis.com/event/dinner-talk-at-the-senat/
LOCATION:Senat\, 15ter rue de Vaugirard\, Paris\, 75006\, France
ATTACH;FMTTYPE=image/jpeg:https://cambridgesocietyofparis.com/wp-content/uploads/2022/02/public-opinion-poll.jpg
ORGANIZER;CN="Cambridge%20Society%20of%20Paris":MAILTO:admin@camsocparis.org
END:VEVENT
END:VCALENDAR