BEGIN:VCALENDAR
VERSION:2.0
PRODID:-//Cambridge Society of Paris - ECPv5.12.2//NONSGML v1.0//EN
CALSCALE:GREGORIAN
METHOD:PUBLISH
X-WR-CALNAME:Cambridge Society of Paris
X-ORIGINAL-URL:https://cambridgesocietyofparis.com
X-WR-CALDESC:Events for Cambridge Society of Paris
REFRESH-INTERVAL;VALUE=DURATION:PT1H
X-Robots-Tag:noindex
X-PUBLISHED-TTL:PT1H
BEGIN:VTIMEZONE
TZID:Europe/Paris
BEGIN:DAYLIGHT
TZOFFSETFROM:+0100
TZOFFSETTO:+0200
TZNAME:CEST
DTSTART:20220327T010000
END:DAYLIGHT
BEGIN:STANDARD
TZOFFSETFROM:+0200
TZOFFSETTO:+0100
TZNAME:CET
DTSTART:20221030T010000
END:STANDARD
END:VTIMEZONE
BEGIN:VEVENT
DTSTART;TZID=Europe/Paris:20220509T180000
DTEND;TZID=Europe/Paris:20220509T203000
DTSTAMP:20260423T134421
CREATED:20220326T091127Z
LAST-MODIFIED:20220502T091307Z
UID:24269-1652119200-1652128200@cambridgesocietyofparis.com
SUMMARY:The invisible world of life - a talk by Pascale Cossart
DESCRIPTION:EVENT CANCELLED\nwith apologies from the Cambridge Society of Paris \nPROFESSOR PASCALE COSSART  \nThe invisible world of life (bacteria\, fungi\, archaea…and viruses) \nOr \nA trip in the country of microbes: a lot of friends\, few enemies! \nMonday 9th May 2022 \nAmphithéâtre Marie Curie\n11/13 rue Pierre et Marie Curie\n75005 Paris
URL:https://cambridgesocietyofparis.com/event/the-invisible-world-of-life-a-talk-by-pascale-cossart/
LOCATION:Amphitheatre Marie Curie\, 1 rue Pierre et Marie Curie\, Paris\, 75005\, France
ATTACH;FMTTYPE=image/jpeg:https://cambridgesocietyofparis.com/wp-content/uploads/2022/03/Cossart-book-cover.jpg
ORGANIZER;CN="Cambridge%20Society%20of%20Paris":MAILTO:admin@camsocparis.org
END:VEVENT
END:VCALENDAR