BEGIN:VCALENDAR
VERSION:2.0
PRODID:-//Cambridge Society of Paris - ECPv5.12.2//NONSGML v1.0//EN
CALSCALE:GREGORIAN
METHOD:PUBLISH
X-WR-CALNAME:Cambridge Society of Paris
X-ORIGINAL-URL:https://cambridgesocietyofparis.com
X-WR-CALDESC:Events for Cambridge Society of Paris
REFRESH-INTERVAL;VALUE=DURATION:PT1H
X-Robots-Tag:noindex
X-PUBLISHED-TTL:PT1H
BEGIN:VTIMEZONE
TZID:Europe/Paris
BEGIN:DAYLIGHT
TZOFFSETFROM:+0100
TZOFFSETTO:+0200
TZNAME:CEST
DTSTART:20220327T010000
END:DAYLIGHT
BEGIN:STANDARD
TZOFFSETFROM:+0200
TZOFFSETTO:+0100
TZNAME:CET
DTSTART:20221030T010000
END:STANDARD
END:VTIMEZONE
BEGIN:VEVENT
DTSTART;TZID=Europe/Paris:20220525T190000
DTEND;TZID=Europe/Paris:20220525T213000
DTSTAMP:20260423T094107
CREATED:20220330T150336Z
LAST-MODIFIED:20220503T173515Z
UID:24303-1653505200-1653514200@cambridgesocietyofparis.com
SUMMARY:Presentation by Solange Manche and Annual General Meeting
DESCRIPTION:Solange Manche\, a beneficiary of the Trevor Brown Bursary in 2020 to support her change year at the Ecole Normale Supérieur\, will give a presentation on “Finance’s Phineas Gage: Thinking Financialization and Subject Formation with Contemporary French Thought”. \nIn this talk\, Solange will present how the thought of Stiegler\, Malabou\, and Lordon can shed a new light upon the way we think about the relation between individuation and financialization. \nAfter the 2007-2008 financial crash\, it became clear that finance is not limited to the screens of the stock exchange. Finance has now become so entangled with our daily existence that theoretical and philosophical considerations of financialization have declared the emergence of a new subject\, starting with Michel Foucault’s entrepreneur of the self. \nSince then\, a number of subjects have been added to the list: Randy Martin’s financialized self\, Paul Langley’s Foucauldian uncertain subject\, Maurizio Lazzarato’s indebted man\, Rob Aitken’s bodies that are turned into objects for financial income\, Michel Feher’s rated agents\, and most recently Aris Komporozos-Athanasiou’s homo speculans. \nWhereas these accounts remain primarily Foucauldian and Deleuzian\, Solange will argue that the new milieu that finance gives rise to is also the background from which Stiegler’s\, Malabou’s\, and Lordon’s ontologies have developed\, thereby offering theoretical tools that are more appropriate to our times. \n \nSolange Manche is a PhD candidate in French\, working on the thought of Bernard Stiegler\, Catherine Malabou\, and Frédéric Lordon. She in particular explores how their ontologies inform their critique of contemporary capitalism and brings their perspective to financialization studies. \nThe talk will be preceded at 7pm by the Society’s Annual General Meeting. The “formal” notice of meeting and other papers relating to the AGM will be sent to members in early May. \nPlease register your attendance at the talk and the AGM  using the booking section below – just click on the “+” button to the right of the quantity field in the tickets box and then click on “get tickets” and proceed to checkout. \nGuests are welcome\, although of course they will not be able to vote at the AGM so they may prefer to arrive at 8pm just for the talk. \nTickets are free and light refreshments will be served.
URL:https://cambridgesocietyofparis.com/event/annual-general-meeting-and-presentation-by-solange-manche/
LOCATION:Maison de la Vie Associative et Citoyenne du VIIe\, 4 rue Amélie\, Paris\, 75007\, France
ATTACH;FMTTYPE=image/jpeg:https://cambridgesocietyofparis.com/wp-content/uploads/2020/06/image-AGM-with-crest-logo.jpg
ORGANIZER;CN="Cambridge%20Society%20of%20Paris":MAILTO:admin@camsocparis.org
END:VEVENT
END:VCALENDAR