BEGIN:VCALENDAR
VERSION:2.0
PRODID:-//Cambridge Society of Paris - ECPv5.12.2//NONSGML v1.0//EN
CALSCALE:GREGORIAN
METHOD:PUBLISH
X-WR-CALNAME:Cambridge Society of Paris
X-ORIGINAL-URL:https://cambridgesocietyofparis.com
X-WR-CALDESC:Events for Cambridge Society of Paris
REFRESH-INTERVAL;VALUE=DURATION:PT1H
X-Robots-Tag:noindex
X-PUBLISHED-TTL:PT1H
BEGIN:VTIMEZONE
TZID:Europe/Paris
BEGIN:DAYLIGHT
TZOFFSETFROM:+0100
TZOFFSETTO:+0200
TZNAME:CEST
DTSTART:20220327T010000
END:DAYLIGHT
BEGIN:STANDARD
TZOFFSETFROM:+0200
TZOFFSETTO:+0100
TZNAME:CET
DTSTART:20221030T010000
END:STANDARD
END:VTIMEZONE
BEGIN:VEVENT
DTSTART;TZID=Europe/Paris:20220924T140000
DTEND;TZID=Europe/Paris:20220924T170000
DTSTAMP:20260422T185035
CREATED:20220708T195425Z
LAST-MODIFIED:20220921T121023Z
UID:24526-1664028000-1664038800@cambridgesocietyofparis.com
SUMMARY:Freshers' Welcome drinks
DESCRIPTION:The Cambridge Society of Paris is again taking part in the University’s world-wide program of events for those students who have recently been successful in gaining a place at Cambridge\, whether as an Undergraduate or a Graduate. \nThe aim is to give them an opportunity to meet other new students coming from France and to chat to Society members about their experience in Cambridge so that the Freshers are better prepared on arrival in their College at the start of their first term. \nWe will be returning to the Fondation Goodplanet\, which is an outdoor venue and so we hope will suitable and safe even if the level of Covid infections creeps up again. The venue is in the Bois de Boulogne and for those without a car\, there are three buses running about every 10-15 minutes: \n\nline 43\, which has a stop at Pont de Neuilly (metro line 1) and goes to Longchamp-Goodplanet\nline 241\, which leaves from Porte d’Auteuil (metro line 10) and goes to Les Moulins-Camping\nline 244\, which stops at Porte Maillot (metro line 1 or RER line C) and goes to Longchamp-Goodplanet\n\n \nEntry is free and attendees are welcome to wander around the Fondation before or after the event. \nThere is no charge for the event. Freshers will be offered two complementary drinks\, while Society members can purchase their refreshments at the Clairière’s bar.
URL:https://cambridgesocietyofparis.com/event/freshers-welcome-drinks-2/
LOCATION:Fondation Goodplanet\, 1\, Carrefour de Longchamp\, Bois de Boulogne\, Paris\, 75116
ATTACH;FMTTYPE=image/png:https://cambridgesocietyofparis.com/wp-content/uploads/2022/07/clairiere.png
ORGANIZER;CN="Cambridge%20Society%20of%20Paris":MAILTO:admin@camsocparis.org
END:VEVENT
END:VCALENDAR