BEGIN:VCALENDAR
VERSION:2.0
PRODID:-//Cambridge Society of Paris - ECPv5.12.2//NONSGML v1.0//EN
CALSCALE:GREGORIAN
METHOD:PUBLISH
X-WR-CALNAME:Cambridge Society of Paris
X-ORIGINAL-URL:https://cambridgesocietyofparis.com
X-WR-CALDESC:Events for Cambridge Society of Paris
REFRESH-INTERVAL;VALUE=DURATION:PT1H
X-Robots-Tag:noindex
X-PUBLISHED-TTL:PT1H
BEGIN:VTIMEZONE
TZID:Europe/Paris
BEGIN:DAYLIGHT
TZOFFSETFROM:+0100
TZOFFSETTO:+0200
TZNAME:CEST
DTSTART:20230326T010000
END:DAYLIGHT
BEGIN:STANDARD
TZOFFSETFROM:+0200
TZOFFSETTO:+0100
TZNAME:CET
DTSTART:20231029T010000
END:STANDARD
END:VTIMEZONE
BEGIN:VEVENT
DTSTART;TZID=Europe/Paris:20230522T180000
DTEND;TZID=Europe/Paris:20230522T210000
DTSTAMP:20260421T120241
CREATED:20230420T141825Z
LAST-MODIFIED:20230420T142702Z
UID:25305-1684778400-1684789200@cambridgesocietyofparis.com
SUMMARY:Coronation of King Charles III and Queen Camilla
DESCRIPTION:Join the British in France to celebrate the coronation of their majesties King Charles III and Queen Camilla on the terrasses of Les Salons Hoche on 22 May 2023 from 6pm to 9pm. \nHer Excellency Dame Menna Rawlings\, the UK’s Ambassador to France\, will attend and give a short speech. \nA British Community Committee of France event – all members of the Cambridge Society of France and their guests are welcome. \nTickets €45 (including Champagne\, wine\, soft drinks and canapés) \nPlease pay by 11th May 2023 using the following link: \nPurchase your tickets \nLes Salons Hoche\, 9 avenue Hoche\, 75008 Paris
URL:https://cambridgesocietyofparis.com/event/coronation-of-king-charles-iii-and-queen-camilla/
LOCATION:Salons Hoche\, 9 Avenue Hoche\, Paris\, 75008\, France
ATTACH;FMTTYPE=image/jpeg:https://cambridgesocietyofparis.com/wp-content/uploads/2023/04/Coronation-Invitation-with-linkQR_page-0001.jpg
END:VEVENT
END:VCALENDAR