BEGIN:VCALENDAR
VERSION:2.0
PRODID:-//Cambridge Society of Paris - ECPv5.12.2//NONSGML v1.0//EN
CALSCALE:GREGORIAN
METHOD:PUBLISH
X-WR-CALNAME:Cambridge Society of Paris
X-ORIGINAL-URL:https://cambridgesocietyofparis.com
X-WR-CALDESC:Events for Cambridge Society of Paris
REFRESH-INTERVAL;VALUE=DURATION:PT1H
X-Robots-Tag:noindex
X-PUBLISHED-TTL:PT1H
BEGIN:VTIMEZONE
TZID:Europe/Paris
BEGIN:DAYLIGHT
TZOFFSETFROM:+0100
TZOFFSETTO:+0200
TZNAME:CEST
DTSTART:20190331T010000
END:DAYLIGHT
BEGIN:STANDARD
TZOFFSETFROM:+0200
TZOFFSETTO:+0100
TZNAME:CET
DTSTART:20191027T010000
END:STANDARD
END:VTIMEZONE
BEGIN:VEVENT
DTSTART;TZID=Europe/Paris:20190604T183000
DTEND;TZID=Europe/Paris:20190604T213000
DTSTAMP:20260426T012724
CREATED:20190202T114251Z
LAST-MODIFIED:20190414T064105Z
UID:2782-1559673000-1559683800@cambridgesocietyofparis.com
SUMMARY:Shakespeare in the Bois de Boulogne: The Merry Wives of Windsor
DESCRIPTION:Tue 4th June – Shakespeare in the Shakespeare Garden\, Bois de BoulogneÂ (PrÃ© Catalan) \nThe Merry Wives of WindsorÂ by the Tower Theatre Company\nThe Women of Windsor take on Sir John Falstaff and his cronies\, in a garden party extravaganza of Shakespeare’s classic comedy. Laundry baskets at the ready! \nFord and Page have a problem. Sir John Falstaff is broke\, and plans on seducing them in order to get to their husbands’ money. But Falstaff is a creep\, and the Wives are cunning. They’ll outmanoeuvre his tricks and humiliate him instead. In a town and society with men at the centre\, the women of Windsor must come together\, and teach them all a lesson they’ll never forget. \nTo book your tickets\n\nTickets are â‚¬22 per person (â‚¬12 for children under 14). This includes the play as well as strawberries and champagne at the interval. \nTo book\, please download theÂ reservation form and send itÂ to Clare Hohler\, either by email or post as indicatedÂ on the reservation form. Â Tickets will be issued at the gate from 6.30pm. but if you would like prior confirmation of your booking please request this by email to Clare.
URL:https://cambridgesocietyofparis.com/event/shakespeare-in-the-bois-de-boulogne-the-merry-wives-of-windsor/
LOCATION:Shakespeare Garden Bois de Boulogne\, AllÃ©e de la Reine Marguerite â€“ Route de Suresnes Le PrÃ© Catelan â€“ Bois de Boulogne\, Paris\, 75016\, France
CATEGORIES:Event
ATTACH;FMTTYPE=image/jpeg:https://cambridgesocietyofparis.com/wp-content/uploads/2018/06/shakespearegarden.jpeg
END:VEVENT
BEGIN:VEVENT
DTSTART;TZID=Europe/Paris:20190617T190000
DTEND;TZID=Europe/Paris:20190617T213000
DTSTAMP:20260426T012724
CREATED:20190521T015330Z
LAST-MODIFIED:20190521T020655Z
UID:3369-1560798000-1560807000@cambridgesocietyofparis.com
SUMMARY:Annual General Meeting
DESCRIPTION:Annual General Meeting \nPresentation by David Klemperer\, a 2018 Trevor Brown Bursary student\, on: \nâ€œThe Development of Neo-Socialism in 1930â€™s Franceâ€ \nOur AGM will be held on Monday\, June 17th 2019 at 19:00 at the Maison de la Vie Associative et Citoyenne du VIIe/VIIIe\, 4 rue AmÃ©lie\, 75007 Paris (nearest Metros Invalides et Tour Maubourg). \nAfter the meeting\, one of the students awarded a Trevor Brown Bursary in 2018 will give a short presentation on his project. Guests are most welcome to attend the presentation\, although of course they will not be able to vote at the AGM. \nWe look forward to seeing you on 17th June as there will be an excellent opportunity for you to help shape the future of our Society as well as enjoying the fruits of the Trevor Brown Bursary.
URL:https://cambridgesocietyofparis.com/event/agm/
LOCATION:Maison de la Vie Associative et Citoyenne du VIIe\, 4 rue Amélie\, Paris\, 75007\, France
CATEGORIES:Event
ATTACH;FMTTYPE=image/jpeg:https://cambridgesocietyofparis.com/wp-content/uploads/2019/05/PARIS-Black.jpg
ORGANIZER;CN="Cambridge%20Society%20of%20Paris":MAILTO:admin@camsocparis.org
END:VEVENT
BEGIN:VEVENT
DTSTART;TZID=Europe/Paris:20190628T190000
DTEND;TZID=Europe/Paris:20190628T210000
DTSTAMP:20260426T012724
CREATED:20190312T212430Z
LAST-MODIFIED:20190627T163810Z
UID:2969-1561748400-1561755600@cambridgesocietyofparis.com
SUMMARY:Glory Days of Paris lecture: The philosophical framework\, Dadaism and Surrealism
DESCRIPTION:Glory Days of Paris is a series of six lectures delivered over two years\, 2019 and 2020\, focusing on the Parisian literary and artistic world of the 1920s and â€˜30s\, with an introductory lecture to precede this period and a concluding lecture set in the â€˜50s and â€˜60s. The lectures will be held in iconic locations reflecting the topic of each lecture and\, over and above\, there will be ancillary events including themed walks\, visits and exhibitions\, in Paris and the UK. \nThe first lecture\, The Artists of Montmartre\, was given on 16th May at the MusÃ©e des Arts Forains. Booking is now open for the second lecture in the series\, The philosophical framework\, Dadaism and Surrealism\, which will take place in Christieâ€™s Paris auction rooms\, where so much of the art to be covered in the talk goes under the hammer. \nThe modern world that burst upon Paris during the inter-war years was not just an artistic revolution that questioned and destroyed perceived convention\, it was also the fruit of philosophy. First\, the Dada movement founded in Zurich by artists such as Tristan Tzara and Hans Arp\, and then Surrealism under the aegis of AndrÃ© Breton\, drawing into its vortex artists and intellectuals including RenÃ© Magritte\, Man Ray\, Max Ernst and Salvador Dali. \nSpeaker: Dr Alyce Mahon\, fellow of Trinity College\, Cambridge\, reader in Modern and Contemporary Art History.Â Dr Mahon specialises in the dynamic between the body and the body politic in modern art\, photography and film\, from Dada to Surrealism and the sixties. Author of Â Surrealism and the Politics of Eros\, and curator of a major forthcoming exhibition at Tate Modern on Surrealist Dorothea Tanning. \nTickets are â‚¬25 per person. To apply for tickets please complete the booking section. By booking through this site\, you can pay \n\nby cheque\, to be sent to Tony Banton\, Hon. Secretary\, 39 rue de Bazeilles\, 59200 Tourcoing\nby bank transfer to the Society’s SociÃ©tÃ© GÃ©nÃ©rale account IBAN: FR76 3000 3033 0200 0372 7572 052 BIC: SOGEFRPP. Please use the reference box to record â€œGlory Days 2 June 2019â€ with your surname\nor\, NEW\, by credit card directly on the site
URL:https://cambridgesocietyofparis.com/event/glory-days-of-paris-lecture-the-philosophical-framework-dadaism-and-surrealism/
LOCATION:Christies’s Paris Office\, 9 avenue Matignon\, Paris\, 75008\, France
CATEGORIES:Event
ATTACH;FMTTYPE=image/jpeg:https://cambridgesocietyofparis.com/wp-content/uploads/2019/03/Christies-badge.jpg
ORGANIZER;CN="Cambridge%20Society%20of%20Paris":MAILTO:admin@camsocparis.org
END:VEVENT
END:VCALENDAR