BEGIN:VCALENDAR
VERSION:2.0
PRODID:-//Cambridge Society of Paris - ECPv5.12.2//NONSGML v1.0//EN
CALSCALE:GREGORIAN
METHOD:PUBLISH
X-WR-CALNAME:Cambridge Society of Paris
X-ORIGINAL-URL:https://cambridgesocietyofparis.com
X-WR-CALDESC:Events for Cambridge Society of Paris
REFRESH-INTERVAL;VALUE=DURATION:PT1H
X-Robots-Tag:noindex
X-PUBLISHED-TTL:PT1H
BEGIN:VTIMEZONE
TZID:Europe/Paris
BEGIN:DAYLIGHT
TZOFFSETFROM:+0100
TZOFFSETTO:+0200
TZNAME:CEST
DTSTART:20190331T010000
END:DAYLIGHT
BEGIN:STANDARD
TZOFFSETFROM:+0200
TZOFFSETTO:+0100
TZNAME:CET
DTSTART:20191027T010000
END:STANDARD
END:VTIMEZONE
BEGIN:VEVENT
DTSTART;TZID=Europe/Paris:20191208T163000
DTEND;TZID=Europe/Paris:20191208T180000
DTSTAMP:20260425T161530
CREATED:20191106T102046Z
LAST-MODIFIED:20191108T132212Z
UID:17358-1575822600-1575828000@cambridgesocietyofparis.com
SUMMARY:The Wells Consort's CHRISTMAS CAROLS IN THE HEART OF PARIS
DESCRIPTION:The Wells Consort emerged from the English Cathedral Choir of Paris\, with its unique repertoire of music sung in England’s most prestigious cathedrals and colleges. They’ll be singing carols\, motets and other festive music for the Christmas season in the heart of the trendy Marais quarter\, conducted by Cambridge Society member Christopher Wells (Magdalene). \nThat’s on December 8th at 4:30pm\, in the church of St Denys du Saint Sacrement\, Paris 3Â°. \nIt’s free of charge\, unless you want to contribute to a collection.
URL:https://cambridgesocietyofparis.com/event/the-wells-consorts-christmas-carols-in-the-heart-of-paris/
LOCATION:Pepys Music\, 68bis rue de Turenne\, Paris\, 75003\, France
CATEGORIES:Other-Event
ATTACH;FMTTYPE=image/jpeg:https://cambridgesocietyofparis.com/wp-content/uploads/2019/11/Wells-consort-8-December.jpg
END:VEVENT
BEGIN:VEVENT
DTSTART;TZID=Europe/Paris:20191210T203000
DTEND;TZID=Europe/Paris:20191210T220000
DTSTAMP:20260425T161530
CREATED:20191110T072612Z
LAST-MODIFIED:20191114T185531Z
UID:17532-1576009800-1576015200@cambridgesocietyofparis.com
SUMMARY:Via Luce - Mozart at Christmas
DESCRIPTION:The Via Luce Orchestra\, directed by Peter Vizard (Gonville & Caius) and the Cantoria Nova Romana choir are performing Mozart’s Coronation Mass KV 317 and Solemn Vespers for a Confessor KV339. \nThe concert is at the Eglise Saint-Germain-des-PrÃ©s\, 3 Place Saint-Germain-des-PrÃ©s\, 75006 Paris at 8:30pm. \nDiscounted tickets of â‚¬25 for 1st Category (public price â‚¬30) and â‚¬15 for 2nd Category (public price â‚¬20) are offered to members of CamSoc. Tickets for those under 25 are â‚¬10. \nDiscounted tickets cannot be purchased directly on the Via Luce website so\, to book your tickets\, send an email to contact@vialuce.fr indicating that you would like to benefit from the discount offered to members of the Cambridge Society of Paris.
URL:https://cambridgesocietyofparis.com/event/via-luce-mozart-at-christmas/
LOCATION:Eglise Saint-Germain-en-Laye\, 3 Place Saint-Germain-en-Laye\, Paris\, 76006\, France
CATEGORIES:Other-Event
ATTACH;FMTTYPE=image/jpeg:https://cambridgesocietyofparis.com/wp-content/uploads/2019/11/Concert-du-101219.jpg
END:VEVENT
BEGIN:VEVENT
DTSTART;TZID=Europe/Paris:20191211T183000
DTEND;TZID=Europe/Paris:20191211T213000
DTSTAMP:20260425T161530
CREATED:20191113T072510Z
LAST-MODIFIED:20191115T075018Z
UID:17630-1576089000-1576099800@cambridgesocietyofparis.com
SUMMARY:UK Alumni Groups' Christmas Drinks
DESCRIPTION:Reserve now for the UK Universities inter-alumni Christmas drinks on 11th December! \nFollowing our very successful Christmas party last year\, the UK Universities inter-alumni network is again organizing festive drinks and finger-food at the British Council on Wednesday 11th December 2019. \nThis year\, we are asking our membersÂ for a five euros fee to help with the catering expenses. \nTo encourage you all to get into the Christmas spirit\, the prize-winner in this yearâ€™s competition will be the person who looks the most Christmassy\, and\, like last year\, weâ€™ll wrap up the evening with a Christmas carol sing-along! \nBooking is now open on Billetweb at https://www.billetweb.fr/uk-alumni-christmas-party-2019. \nSpaces are limited\, so tickets are on a first-come\, first-served basis. \nWhen you are reserving\, youÂ mustÂ mention First name\, Last name &Â University. Please also note that this event is exclusively reserved for alumni of the UK Universities community. \nThe party will begin at 6.30 and finish at 9.30 pm with the Christmas carols. \nWe look forward to seeing you there! \nThe inter-alumni coordinator team
URL:https://cambridgesocietyofparis.com/event/uk-alumni-groups-christmas-drinks/
LOCATION:British Council\, 9 rue Constantine\, Paris\, 75007\, France
CATEGORIES:Other-Event
ATTACH;FMTTYPE=image/jpeg:https://cambridgesocietyofparis.com/wp-content/uploads/2019/11/Christmas-drinks.jpeg
END:VEVENT
BEGIN:VEVENT
DTSTART;TZID=Europe/Paris:20191215T160000
DTEND;TZID=Europe/Paris:20191215T173000
DTSTAMP:20260425T161530
CREATED:20191108T130056Z
LAST-MODIFIED:20191108T132252Z
UID:17458-1576425600-1576431000@cambridgesocietyofparis.com
SUMMARY:Via Luce - Bach at Christmas
DESCRIPTION:The Ensemble Via Luce\, directed by Peter Vizard (Gonville & Caius)\, will be performing a number of Bach Cantatas and the Bach Concerto for Oboe d’Amore at 4pm on Sunday 15th December at the Eglise Saint Ignace\, 33 rue de SÃ¨vres\, 75006 Paris. \nEntry is free\, but their will be a voluntary collection. No booking is required.
URL:https://cambridgesocietyofparis.com/event/via-luce-bach-at-christmas/
LOCATION:Eglise Saint Ignace\, 33 rue de SÃ¨vres\, Paris\, 75006\, France
CATEGORIES:Other-Event
ATTACH;FMTTYPE=image/jpeg:https://cambridgesocietyofparis.com/wp-content/uploads/2019/11/Concert-du-151219-1.jpg
END:VEVENT
BEGIN:VEVENT
DTSTART;TZID=Europe/Paris:20191216T183000
DTEND;TZID=Europe/Paris:20191216T200000
DTSTAMP:20260425T161530
CREATED:20191022T064126Z
LAST-MODIFIED:20191215T064436Z
UID:16626-1576521000-1576526400@cambridgesocietyofparis.com
SUMMARY:Carols at the Travellers
DESCRIPTION:We are sorry\, but this event is now sold out. You can register to be put on the waiting list. If places become available\, we will let you know. \nÂ Annual Carol Singing at \nâ€œThe Travellersâ€ \n25\, avenue des Champs-ElysÃ©es\, Paris 8’eme \nFrom 6:30 PM on Monday\, 16th December\, 2019 \nVin chaud and mince pies will be served prior to the singing \nNumbers are limited to 100 in total. Places will be allocated on a â€œfirst come\, first servedâ€ basis \nPlease apply by booking through the “Tickets” section below. Cost per person is â‚¬20. \nNB: Please note that the Travellers Club \nrequires gentlemen to wear jackets and ties
URL:https://cambridgesocietyofparis.com/event/carols-at-the-travellers/
LOCATION:The Travellers Club\, 25 avenue des Champs-Elysées\, Paris\, 75008\, France
CATEGORIES:Event
ATTACH;FMTTYPE=image/jpeg:https://cambridgesocietyofparis.com/wp-content/uploads/2019/10/Carols-tree-e1571726638516.jpg
ORGANIZER;CN="Cambridge%20Society%20of%20Paris":MAILTO:admin@camsocparis.org
END:VEVENT
END:VCALENDAR