BEGIN:VCALENDAR
VERSION:2.0
PRODID:-//Cambridge Society of Paris - ECPv5.12.2//NONSGML v1.0//EN
CALSCALE:GREGORIAN
METHOD:PUBLISH
X-WR-CALNAME:Cambridge Society of Paris
X-ORIGINAL-URL:https://cambridgesocietyofparis.com
X-WR-CALDESC:Events for Cambridge Society of Paris
REFRESH-INTERVAL;VALUE=DURATION:PT1H
X-Robots-Tag:noindex
X-PUBLISHED-TTL:PT1H
BEGIN:VTIMEZONE
TZID:Europe/Paris
BEGIN:DAYLIGHT
TZOFFSETFROM:+0100
TZOFFSETTO:+0200
TZNAME:CEST
DTSTART:20210328T010000
END:DAYLIGHT
BEGIN:STANDARD
TZOFFSETFROM:+0200
TZOFFSETTO:+0100
TZNAME:CET
DTSTART:20211031T010000
END:STANDARD
END:VTIMEZONE
BEGIN:VEVENT
DTSTART;TZID=Europe/Paris:20211007T200000
DTEND;TZID=Europe/Paris:20211007T210000
DTSTAMP:20260424T050858
CREATED:20210824T152036Z
LAST-MODIFIED:20211003T080724Z
UID:23165-1633636800-1633640400@cambridgesocietyofparis.com
SUMMARY:Entrepreneurship and Building a Better World : Carbon13 - The Venture Builder for the Climate Emergency
DESCRIPTION:Tackling climate change with entrepreneurship\n The story of the venture builder Carbon 13\nCarbon 13 is a new accelerator based in Cambridge which focuses on delivering new ventures capable of reducing CO2(e) by > 10 million tonnes each (Carbon13 – The Venture Builder for the Climate Emergency). \n\n \n\nChris Coleridge\, CEO and founder of C13\, will join us to present his vision for this unique accelerator program and the progress to date. You will also have a unique opportunity to hear about some of the exciting ventures already formed as part of cohort 1 which started in MarchÂ 2021. \n\nReedÂ Walker\, is co-founder of Agreed Earth\, helping farmers profit\, naturally\, by building the data hub of regenerative agriculture. Backed by Carbon13. \n \nNicolas Nouvel is a member of the Committee of the Cambridge Society. “I am about toÂ embarkÂ on a fantastic adventure to co-create a business with significant impact on GHG emissions. Joining the second cohort of the phenomenal Cambridge-based acceleratorÂ Carbon13Â is an honour and a privilege. Together we will form teams to tackle climate change in our respective areas of expertise. It is going to be spectacular… so watch this space!”
URL:https://cambridgesocietyofparis.com/event/entrepreneurship-and-building-a-better-world-chris-coleridge/
LOCATION:Virtual Zoom meeting\, Your location\, France
ATTACH;FMTTYPE=image/jpeg:https://cambridgesocietyofparis.com/wp-content/uploads/2020/11/Entrepreneurship-1.jpg
ORGANIZER;CN="Cambridge%20Society%20of%20Paris":MAILTO:admin@camsocparis.org
END:VEVENT
BEGIN:VEVENT
DTSTART;TZID=Europe/Paris:20211020T200000
DTEND;TZID=Europe/Paris:20211020T210000
DTSTAMP:20260424T050858
CREATED:20210423T073926Z
LAST-MODIFIED:20210709T205039Z
UID:22749-1634760000-1634763600@cambridgesocietyofparis.com
SUMMARY:Hot Topics for Top Minds
DESCRIPTION:The Society’s fifth quarterly virtual meeting to debate topics considered to be of interest by the participants\, proposed in advance\, will be held on Wednesday 2Oth October 2021 from 8pm to 9pm. Places will be limited to a maximum of 20 so everyone is able to have their say on each topic. \nThe critical thing is to have a range of interesting topics\, which is down to you please. The topics can be on almost any subject â€“ topical\, scientific\, philosophical\, serious or amusing\, it is up to you to suggest what you would like to discuss. Having thought of ideas\, please include them in your booking form\, or if you come up with an idea later\, you can send your contributions directly to Terry Quinn on president@camsocparis.org. Terry will then compÃ¨re the event. \nThis event will be hosted on Zoom. A meeting link will be sent to all registered attendees two or three days in advance of the event. Since numbers will be limited to 20\, you are encouraged to register early
URL:https://cambridgesocietyofparis.com/event/hot-topics-for-top-minds-4/
LOCATION:Virtual Zoom meeting\, Your location\, France
ATTACH;FMTTYPE=image/jpeg:https://cambridgesocietyofparis.com/wp-content/uploads/2020/06/images.jpg
ORGANIZER;CN="Cambridge%20Society%20of%20Paris":MAILTO:admin@camsocparis.org
END:VEVENT
END:VCALENDAR