BEGIN:VCALENDAR
VERSION:2.0
PRODID:-//Cambridge Society of Paris - ECPv5.12.2//NONSGML v1.0//EN
CALSCALE:GREGORIAN
METHOD:PUBLISH
X-WR-CALNAME:Cambridge Society of Paris
X-ORIGINAL-URL:https://cambridgesocietyofparis.com
X-WR-CALDESC:Events for Cambridge Society of Paris
REFRESH-INTERVAL;VALUE=DURATION:PT1H
X-Robots-Tag:noindex
X-PUBLISHED-TTL:PT1H
BEGIN:VTIMEZONE
TZID:Europe/Paris
BEGIN:DAYLIGHT
TZOFFSETFROM:+0100
TZOFFSETTO:+0200
TZNAME:CEST
DTSTART:20220327T010000
END:DAYLIGHT
BEGIN:STANDARD
TZOFFSETFROM:+0200
TZOFFSETTO:+0100
TZNAME:CET
DTSTART:20221030T010000
END:STANDARD
END:VTIMEZONE
BEGIN:VEVENT
DTSTART;TZID=Europe/Paris:20220301T190000
DTEND;TZID=Europe/Paris:20220301T203000
DTSTAMP:20260423T134421
CREATED:20220117T142941Z
LAST-MODIFIED:20220117T143108Z
UID:23881-1646161200-1646166600@cambridgesocietyofparis.com
SUMMARY:Oxford & Cambridge Poetry and Prose Reading
DESCRIPTION:We are pleased to announce the next Oxford and Cambridge virtual prose and poetry reading on Tuesday 1st March at 7pm. It will take place on Zoom. This event is open to members of both Societies. \nThe topic chosen is “Rich and Poor” which we hope gives you plenty of scope to select readings that are pertinent. Each reader should plan to come with two readings\, which can be either poetry or prose\, each of 3 to 5 minutes (maximum) long. \nThus\, in the 90 minutes available\, you can expect to read both pieces. Paul Tracy (Oxford) will again act as moderator for the evening. \nThere is no charge for this event. To book\, click on the “+” sign in the booking section below and enter the information requested on the way to checkout. \nRegistered participants will receive the Zoom link by email two or three days before the event.
URL:https://cambridgesocietyofparis.com/event/oxford-cambridge-poetry-and-prose-reading/
LOCATION:Virtual Zoom meeting\, Your location\, France
ATTACH;FMTTYPE=image/jpeg:https://cambridgesocietyofparis.com/wp-content/uploads/2022/01/habits-rich-poor.jpg
ORGANIZER;CN="Cambridge%20Society%20of%20Paris":MAILTO:admin@camsocparis.org
END:VEVENT
BEGIN:VEVENT
DTSTART;TZID=Europe/Paris:20220311T180000
DTEND;TZID=Europe/Paris:20220311T203000
DTSTAMP:20260423T134421
CREATED:20211228T140609Z
LAST-MODIFIED:20220228T120816Z
UID:23754-1647021600-1647030600@cambridgesocietyofparis.com
SUMMARY:CamSoc Paris - Jean Khalfa talk 11 March 2022
DESCRIPTION:Jean Khalfa is a Fellow of Trinity College Cambridge who specialises in the history of philosophy\, modern literature (in particular contemporary poetry and writing in French from North Africa and the Caribbean)\, aesthetics and anthropology. He is also a member of the Council of the Ecole Normale Supérieure. \n \nJean will give us a talk on Wifredo Lam and XXth century livres d’artiste at the Amphithéâtre Marie Curie\, 1 rue Pierre et Marie Curie\, 75005 Paris (RER B Luxembourg\, Metro line 7 Place Monge\, Metro line 10 Cardinal Lemoine). This is the lecture hall where Marie Curie gave her lectures in the first decade of the 20th Century and it retains much of the format and atmosphere from that time. Jean’s topic would follow well the current Picasso exhibition (https://www.palais-portedoree.fr/fr/node/109187) for those who have been or are planning to go to that – it runs until 13th February at the Palais de la Porte Dorée. \nThe Wren library at Trinity College has one of the greatest collections of XXth century artists’ books. A  set of books by the Cuban/French painter Wifredo Lam has recently been added to the collection. Lam was a protégé of Picasso before WWII and became one of the greatest painters of the second half of the century. \n \nHis painting La Jungle is usually displayed in New York’s MoMA next to Picasso’s Les Demoiselles d’Avignon. His work as a painter was considerable and is on display in countless museums\, but what is less well known is that Lam produced some of the greatest books of the period\, in dialogue with the most significant poets. \nThis talk will be an opportunity to discover this artist\, to better understand the genre of the “livre d’artiste”\, and to learn how I managed to get these extraordinary books to Cambridge. \nTo find out more about the collection: \nWilfredo Lam: Livres d’Artiste – part one of article published on 29th May 2018 \nWilfredo Lam: Livres d’Artiste – part two of article published on 4th June 2018 \nParticipants will be welcomed with a coffee\, available from 6pm\, and the lecture will begin at 7pm. Tickets are €25 per person and can be booked using the link below (click on the “+” button to select the number of tickets required).
URL:https://cambridgesocietyofparis.com/event/camsoc-paris-jean-khalfa-talk-11-march-2022/
LOCATION:Amphitheatre Marie Curie\, 1 rue Pierre et Marie Curie\, Paris\, 75005\, France
ATTACH;FMTTYPE=image/jpeg:https://cambridgesocietyofparis.com/wp-content/uploads/2021/12/Amphi-M-C.jpg
ORGANIZER;CN="Cambridge%20Society%20of%20Paris":MAILTO:admin@camsocparis.org
END:VEVENT
BEGIN:VEVENT
DTSTART;TZID=Europe/Paris:20220315T190000
DTEND;TZID=Europe/Paris:20220315T223000
DTSTAMP:20260423T134421
CREATED:20220222T144054Z
LAST-MODIFIED:20220308T232118Z
UID:24094-1647370800-1647383400@cambridgesocietyofparis.com
SUMMARY:Dinner-Talk at the Sénat
DESCRIPTION:TICKET SALES FOR THIS EVENT HAVE NOW CLOSED \nWe have an excellent opportunity to find out about the challenges relating to political opinion polls from Mr Henri Wallard\, CEO France and Group Deputy CEO of Ipsos. More information about the topic of the talk will be provided shortly. \nWe have also been fortunate to be able to secure an appropriate venue for such a topic\, the Sénat. 15ter rue de Vaugirard\, Paris 6eme. \n \nThere will be a welcome aperitif from 7pm\, followed by a three-course dinner starting at 7:30pm. We have selected a fish menu\, but do request that you indicate any dietary requirements you have in your booking form as the Sénat’s restaurant can provide a vegetarian or vegan option as long as we inform them in advance. \nDue to the security conditions at the Sénat\, it is essential that you arrive between 7pm and 7:45pm – the doors will be closed at 7:45pm sharp so any late arrivals will\, unfortunately not be able to join the dinner. \nTickets are €55 per person\, with a discounted ticket available at €40 for those of you under 30 years of age. To book\, please use the booking section below\, and click on the “+” sign to the right of the appropriate ticket category \nWe are required to provide a nominative list of participants\, including date of birth\, four days before the event and no changes to that list can be made. This means that you must book your places no later than 8th March\, and no refunds for cancellations will be given after that date. You will need to show a photo-ID document to be allowed into the Sénat\, together with a valid pass vaccinal.
URL:https://cambridgesocietyofparis.com/event/dinner-talk-at-the-senat/
LOCATION:Senat\, 15ter rue de Vaugirard\, Paris\, 75006\, France
ATTACH;FMTTYPE=image/jpeg:https://cambridgesocietyofparis.com/wp-content/uploads/2022/02/public-opinion-poll.jpg
ORGANIZER;CN="Cambridge%20Society%20of%20Paris":MAILTO:admin@camsocparis.org
END:VEVENT
END:VCALENDAR