BEGIN:VCALENDAR
VERSION:2.0
PRODID:-//Cambridge Society of Paris - ECPv5.12.2//NONSGML v1.0//EN
CALSCALE:GREGORIAN
METHOD:PUBLISH
X-WR-CALNAME:Cambridge Society of Paris
X-ORIGINAL-URL:https://cambridgesocietyofparis.com
X-WR-CALDESC:Events for Cambridge Society of Paris
REFRESH-INTERVAL;VALUE=DURATION:PT1H
X-Robots-Tag:noindex
X-PUBLISHED-TTL:PT1H
BEGIN:VTIMEZONE
TZID:Europe/Paris
BEGIN:DAYLIGHT
TZOFFSETFROM:+0100
TZOFFSETTO:+0200
TZNAME:CEST
DTSTART:20220327T010000
END:DAYLIGHT
BEGIN:STANDARD
TZOFFSETFROM:+0200
TZOFFSETTO:+0100
TZNAME:CET
DTSTART:20221030T010000
END:STANDARD
END:VTIMEZONE
BEGIN:VEVENT
DTSTART;TZID=Europe/Paris:20220403T150000
DTEND;TZID=Europe/Paris:20220403T170000
DTSTAMP:20260423T094107
CREATED:20220314T164536Z
LAST-MODIFIED:20220314T164536Z
UID:24220-1648998000-1649005200@cambridgesocietyofparis.com
SUMMARY:The Gemini Boat Races
DESCRIPTION:The Gemini Boat Race \nwill return to the Thames this year. \n\n \nCome along to cheer on the Light Blues at The Bowler\, 13 rue d’Artois\, 75008 Paris. \nWe have arranged for both the Ladies’ and the Men’s races to be shown on the Bowler’s big screen so that we can meet up with our friends from the Other Place. The stakes are\, of course\, getting higher for Cambridge as we are on an impressive run of victories in both races. \nThe Ladies’ race starts at 15:23 French time\, with the Men’s race one hour later\, so reserve your afternoon to come along and show your support. The Bowler serves reasonably priced pub meals\, so why not make a full afternoon of it and have lunch before the rowing starts. \nAlthough there is no need to book\, we will appreciate it if you let us know by email that you intend to come along so we can confirm approximate numbers to The Bowler.
URL:https://cambridgesocietyofparis.com/event/the-gemini-boat-races/
LOCATION:The Bowler\, 13 rue d'Artois\, Paris\, 75008\, France
ORGANIZER;CN="Cambridge%20Society%20of%20Paris":MAILTO:admin@camsocparis.org
END:VEVENT
BEGIN:VEVENT
DTSTART;TZID=Europe/Paris:20220413T193000
DTEND;TZID=Europe/Paris:20220413T233000
DTSTAMP:20260423T094107
CREATED:20211125T163402Z
LAST-MODIFIED:20220506T072142Z
UID:23541-1649878200-1649892600@cambridgesocietyofparis.com
SUMMARY:Cambridge Society of Paris Annual Dinner
DESCRIPTION:Bookings for this event have now closed – sorry if you have missed out\n  \nThe President and Committee of the Cambridge Society of Paris are delighted to invite the Society’s members and their guests to the Annual Dinner on Wednesday 13th April 2022 at the Maison des Polytechniciens\, 12 rue de Poitiers\, 75007 Paris \nOur Guest Speaker will be Sir Mark Walport (Clare College)\, FRS FRCP FRCPath FMedSci FRSE. \n \nSir Mark chairs the Kennedy Memorial Trust and the Imperial College Academic Health Sciences Centre. He is a Trustee of the British Museum. \nFor members\, the price for aperitif\, dinner and drinks is €70 per person. One guest can be invited at this price.  For members under 30\, the price is €50 with again one guest at the same price. Additional guests and non-member Alumni are also welcome\, although their ticket price is €80 each. \nMembers will have received an invitation by email which indicates whether or not their subscription needs renewing so that they can take advantage of the Members’ ticket rates. \nFor any questions about this event\, or your membership status\, please contact Tony Banton\, Hon. Secretary\, on admin@camsocparis.org. \nPlease note that cancellations could only be refunded if they had been communicated to the Society’s Hon. Secretary by 11am on Friday 1st April 2022.
URL:https://cambridgesocietyofparis.com/event/cambridge-society-of-paris-annual-dinner/
LOCATION:Maison de Polytechniciens\, 12 rue de Poitiers\, Paris\, 75007\, France
ORGANIZER;CN="Cambridge%20Society%20of%20Paris":MAILTO:admin@camsocparis.org
END:VEVENT
BEGIN:VEVENT
DTSTART;TZID=Europe/Paris:20220428T200000
DTEND;TZID=Europe/Paris:20220428T210000
DTSTAMP:20260423T094107
CREATED:20220125T094715Z
LAST-MODIFIED:20220416T090209Z
UID:23936-1651176000-1651179600@cambridgesocietyofparis.com
SUMMARY:Hot Topics for Top Minds
DESCRIPTION:The Society’s quarterly virtual meeting to debate topics considered to be of interest by the participants\, proposed in advance\, will be held on Thursday 28th April 2022 from 8pm to 9pm. Places will be limited to a maximum of 20 so everyone is able to have their say on each topic. \nThe critical thing is to have a range of interesting topics\, which is down to you please. The topics can be on almost any subject – topical\, scientific\, philosophical\, serious or amusing\, it is up to you to suggest what you would like to discuss. Having thought of ideas\, please include them in your booking form\, or if you come up with an idea later\, you can send your contributions directly to the Society’s President\, Terry Quinn\, on president@camsocparis.org. Terry will then compere the event. \nThis event will be hosted on Zoom. A meeting link will be sent to all registered attendees two or three days in advance of the event.
URL:https://cambridgesocietyofparis.com/event/hot-topics-for-top-minds-6/
LOCATION:Virtual Zoom meeting\, Your location\, France
CATEGORIES:Event
ATTACH;FMTTYPE=image/jpeg:https://cambridgesocietyofparis.com/wp-content/uploads/2020/06/images.jpg
ORGANIZER;CN="Cambridge%20Society%20of%20Paris":MAILTO:admin@camsocparis.org
END:VEVENT
END:VCALENDAR