BEGIN:VCALENDAR
VERSION:2.0
PRODID:-//Cambridge Society of Paris - ECPv5.12.2//NONSGML v1.0//EN
CALSCALE:GREGORIAN
METHOD:PUBLISH
X-WR-CALNAME:Cambridge Society of Paris
X-ORIGINAL-URL:https://cambridgesocietyofparis.com
X-WR-CALDESC:Events for Cambridge Society of Paris
REFRESH-INTERVAL;VALUE=DURATION:PT1H
X-Robots-Tag:noindex
X-PUBLISHED-TTL:PT1H
BEGIN:VTIMEZONE
TZID:Europe/Paris
BEGIN:DAYLIGHT
TZOFFSETFROM:+0100
TZOFFSETTO:+0200
TZNAME:CEST
DTSTART:20220327T010000
END:DAYLIGHT
BEGIN:STANDARD
TZOFFSETFROM:+0200
TZOFFSETTO:+0100
TZNAME:CET
DTSTART:20221030T010000
END:STANDARD
END:VTIMEZONE
BEGIN:VEVENT
DTSTART;TZID=Europe/Paris:20221211T160000
DTEND;TZID=Europe/Paris:20221211T173000
DTSTAMP:20260422T031132
CREATED:20220314T165406Z
LAST-MODIFIED:20221121T094651Z
UID:24226-1670774400-1670779800@cambridgesocietyofparis.com
SUMMARY:The Wells Consort - Christmas Music in the Heart of Paris
DESCRIPTION:The Wells Consort emerged from the English Cathedral Choir of Paris\, with its unique repertoire of music sung in England’s prestigious cathedrals and colleges. They’ll be singing carols and other festive music for the Christmas season in the heart of the trendy Marais quarter\, conducted by Christopher Wells. Christopher Wells is a member of the Cambridge Society of Paris and went to Magdalene.  \nChurch of St Denys du St Sacrement\, 68bis rue de Turenne\, 75003 PARIS (metro St Paul or St Sebastien-Froissart). \nFree entry\, retiring collection on behalf of “Esperanza Joie des Enfants”.
URL:https://cambridgesocietyofparis.com/event/the-wells-consort-music-for-the-passion/
LOCATION:Eglise St-Denys-du-St-Sacrement\, 68bis rue de Turenne\, Paris\, 75003\, France
ATTACH;FMTTYPE=image/jpeg:https://cambridgesocietyofparis.com/wp-content/uploads/2022/03/Image1-1-e1669023580258.jpg
END:VEVENT
BEGIN:VEVENT
DTSTART;TZID=Europe/Paris:20221212T183000
DTEND;TZID=Europe/Paris:20221212T200000
DTSTAMP:20260422T031132
CREATED:20220920T065201Z
LAST-MODIFIED:20221212T155609Z
UID:24713-1670869800-1670875200@cambridgesocietyofparis.com
SUMMARY:Carols at the Travellers
DESCRIPTION:This event is fully subscribed – a waiting list is in place and you can add your name using the ticket section below – please apply for only one waiting list place even if you would like to bring a guest. The attendee details will ask for the number of tickets wanted (maximum 2) and the name of your guest if you are inviting one. \nAfter a rather prolongued Covid gap\, we are pleased to invite you back to our:  \nAnnual Carol Singing at \n“The Travellers” \n25\, avenue des Champs-Elysées\, Paris 8’eme \nFrom 6:30 PM on Monday\, 12th December\, 2022 \nVin chaud and mince pies will be served prior to the singing \nNumbers are limited to 100 in total. Places will be allocated on a “first come\, first served” basis.  \nPlease add your name to the waiting list by booking through the “Tickets” section below. Only select one ticket – guest information\, if applicable\, will be requested within the attendee information. You will be contacted when places become available. Cost per person is €20. \nNB: Please note that the Travellers Club \nrequires gentlemen to wear jackets and ties
URL:https://cambridgesocietyofparis.com/event/save-the-date-carols-at-the-travellers/
LOCATION:The Travellers Club\, 25 avenue des Champs-Elysées\, Paris\, 75008\, France
ATTACH;FMTTYPE=image/jpeg:https://cambridgesocietyofparis.com/wp-content/uploads/2018/12/IMG_1189-4220933192-1544566785879-e1663656576181.jpg
ORGANIZER;CN="Cambridge%20Society%20of%20Paris":MAILTO:admin@camsocparis.org
END:VEVENT
END:VCALENDAR